BEGIN:VCALENDAR
VERSION:2.0
PRODID:-//Waltham Times - ECPv6.15.12.2//NONSGML v1.0//EN
CALSCALE:GREGORIAN
METHOD:PUBLISH
X-ORIGINAL-URL:https://walthamtimes.org
X-WR-CALDESC:Events for Waltham Times
REFRESH-INTERVAL;VALUE=DURATION:PT1H
X-Robots-Tag:noindex
X-PUBLISHED-TTL:PT1H
BEGIN:VTIMEZONE
TZID:America/New_York
BEGIN:DAYLIGHT
TZOFFSETFROM:-0500
TZOFFSETTO:-0400
TZNAME:EDT
DTSTART:20250309T070000
END:DAYLIGHT
BEGIN:STANDARD
TZOFFSETFROM:-0400
TZOFFSETTO:-0500
TZNAME:EST
DTSTART:20251102T060000
END:STANDARD
BEGIN:DAYLIGHT
TZOFFSETFROM:-0500
TZOFFSETTO:-0400
TZNAME:EDT
DTSTART:20260308T070000
END:DAYLIGHT
BEGIN:STANDARD
TZOFFSETFROM:-0400
TZOFFSETTO:-0500
TZNAME:EST
DTSTART:20261101T060000
END:STANDARD
BEGIN:DAYLIGHT
TZOFFSETFROM:-0500
TZOFFSETTO:-0400
TZNAME:EDT
DTSTART:20270314T070000
END:DAYLIGHT
BEGIN:STANDARD
TZOFFSETFROM:-0400
TZOFFSETTO:-0500
TZNAME:EST
DTSTART:20271107T060000
END:STANDARD
END:VTIMEZONE
BEGIN:VEVENT
DTSTART;TZID=America/New_York:20260408T080000
DTEND;TZID=America/New_York:20260408T170000
DTSTAMP:20260422T100624
CREATED:20260227T162331Z
LAST-MODIFIED:20260317T164431Z
UID:10002550-1775635200-1775667600@walthamtimes.org
SUMMARY:2026 MassEnergize Community Climate Leaders annual conference
DESCRIPTION:A powerful one-day gathering bringing together 250+ passionate climate leaders from across Massachusetts. \nGet inspired\, learn what’s working in other communities\, and connect with the people driving real climate impact. Expect a full day of dynamic sessions\, practical tools\, and unmatched networking with organizers\, municipal staff\, students\, advocates\, and partners committed to accelerating local climate solutions.
URL:https://walthamtimes.org/event/2026-massenergize-community-climate-leaders-annual-conference/
LOCATION:Bentley University\, 175 Forest Street\, Waltham\, MA
CATEGORIES:Public Advocacy,Public interest
ATTACH;FMTTYPE=image/png:https://d2iou6x4qarbh6.cloudfront.net/wp-content/uploads/2026/02/27112340/Registration-is-Open-5.png
END:VEVENT
BEGIN:VEVENT
DTSTART;TZID=America/New_York:20260331T180000
DTEND;TZID=America/New_York:20260331T210000
DTSTAMP:20260422T100624
CREATED:20260323T200926Z
LAST-MODIFIED:20260323T200926Z
UID:10002559-1774980000-1774990800@walthamtimes.org
SUMMARY:Community Town Hall on surveillance cameras\, use of Waltham Common
DESCRIPTION:This town hall is a forum for community members to present information about two topics: \n\nThe use of surveillance technology and automatic license plate reader technology.\nUse of Waltham Common\n\nResidents will hear brief presentations from community members. The floor will then be open for residents to speak.
URL:https://walthamtimes.org/event/community-town-hall-on-surveillance-cameras-use-of-waltham-common/
LOCATION:City of Waltham Government Center\, 119 School Street\, Waltham\, MA
CATEGORIES:City government|Public interest,Public Advocacy,Public interest
END:VEVENT
BEGIN:VEVENT
DTSTART;TZID=America/New_York:20260328T103000
DTEND;TZID=America/New_York:20260328T120000
DTSTAMP:20260422T100624
CREATED:20260324T162720Z
LAST-MODIFIED:20260324T162720Z
UID:10002560-1774693800-1774699200@walthamtimes.org
SUMMARY:No Kings 3 Rally
DESCRIPTION:Indivisible Waltham will hold its No KIngs 3 rally at Main and Moody and on the Common. Waltham is part of the national No Kings 3 event on Saturday. The rally is to protest the authoritarian actions of the Trump administration to use violence against citizens and both legal and undocumented immigrants\, starting a war without Congressional authority\, an attempt to reduce citizens’ voting rights before the midterms\, and so much more.
URL:https://walthamtimes.org/event/no-kings-3-rally/
LOCATION:Waltham Common\, 610 Main St\, Waltham\, MA\, 02452\, United States
CATEGORIES:Public Advocacy
END:VEVENT
BEGIN:VEVENT
DTSTART;TZID=America/New_York:20260320T153000
DTEND;TZID=America/New_York:20260320T170000
DTSTAMP:20260422T100624
CREATED:20260317T154042Z
LAST-MODIFIED:20260317T154042Z
UID:10002540-1774020600-1774026000@walthamtimes.org
SUMMARY:Rally for state courthouse safety and immigrant rights
DESCRIPTION:Beginning March 16\, the LUCE Immigrant Justice Network of Massachusetts will gather at courthouses from Brockton to Lynn to demand state leaders protect all residents and put an end to Immigration and Customs Enforcement (ICE) presence in state courts. \nThe rally at Waltham District Court will take place on Friday\, March 20\, from 3:30 to 5:00 p.m. \nLearn more about the LUCE Immigrant Justice Network on our website or email us.
URL:https://walthamtimes.org/event/rally-for-state-courthouse-safety-and-immigrant-rights/
LOCATION:Waltham District Courthouse\, 38 Linden Street\, Waltham\, MA
CATEGORIES:Public Advocacy
END:VEVENT
BEGIN:VEVENT
DTSTART;TZID=America/New_York:20260314T110000
DTEND;TZID=America/New_York:20260314T120000
DTSTAMP:20260422T100624
CREATED:20260312T001901Z
LAST-MODIFIED:20260314T005948Z
UID:10002532-1773486000-1773489600@walthamtimes.org
SUMMARY:Indivisible Waltham rally
DESCRIPTION:Indivisible Waltham will hold a rally on Saturday\, March 14 from 11 a.m. to noon at Main Street and Moody Street. The purpose of the rally is to protest the Trump administration’s war on Iran and inhumane actions against immigrants.
URL:https://walthamtimes.org/event/indivisible-waltham-rally-2/
LOCATION:Main and Moody\, 1 Moody Street\, Waltham\, MA
CATEGORIES:Public Advocacy
END:VEVENT
END:VCALENDAR