BEGIN:VCALENDAR
VERSION:2.0
PRODID:-//Waltham Times - ECPv6.15.12.2//NONSGML v1.0//EN
CALSCALE:GREGORIAN
METHOD:PUBLISH
X-ORIGINAL-URL:https://walthamtimes.org
X-WR-CALDESC:Events for Waltham Times
REFRESH-INTERVAL;VALUE=DURATION:PT1H
X-Robots-Tag:noindex
X-PUBLISHED-TTL:PT1H
BEGIN:VTIMEZONE
TZID:America/New_York
BEGIN:DAYLIGHT
TZOFFSETFROM:-0500
TZOFFSETTO:-0400
TZNAME:EDT
DTSTART:20240310T070000
END:DAYLIGHT
BEGIN:STANDARD
TZOFFSETFROM:-0400
TZOFFSETTO:-0500
TZNAME:EST
DTSTART:20241103T060000
END:STANDARD
BEGIN:DAYLIGHT
TZOFFSETFROM:-0500
TZOFFSETTO:-0400
TZNAME:EDT
DTSTART:20250309T070000
END:DAYLIGHT
BEGIN:STANDARD
TZOFFSETFROM:-0400
TZOFFSETTO:-0500
TZNAME:EST
DTSTART:20251102T060000
END:STANDARD
BEGIN:DAYLIGHT
TZOFFSETFROM:-0500
TZOFFSETTO:-0400
TZNAME:EDT
DTSTART:20260308T070000
END:DAYLIGHT
BEGIN:STANDARD
TZOFFSETFROM:-0400
TZOFFSETTO:-0500
TZNAME:EST
DTSTART:20261101T060000
END:STANDARD
END:VTIMEZONE
BEGIN:VEVENT
DTSTART;TZID=America/New_York:20251214T113000
DTEND;TZID=America/New_York:20251214T143000
DTSTAMP:20260422T131922
CREATED:20251127T000132Z
LAST-MODIFIED:20251127T000132Z
UID:10001859-1765711800-1765722600@walthamtimes.org
SUMMARY:Breakfast with Santa at Saint Jude's
DESCRIPTION:Menu to include pancakes\, sausage\, pastries\, juice and hot c1hocolate. \nDoor prizes\, raffles\, games and crafts. \nTickets available for purchase online. Individual: $5\, family: $10.\nTickets can also be purchased after all weekend Masses through December 13. \n(Ticket prices at the door will be individual $10\, family $30.)
URL:https://walthamtimes.org/event/breakfast-with-santa-at-saint-judes/
LOCATION:Saint Jude’s School Hall\, 175 Main Street\, Waltham\, MA
CATEGORIES:Festivals|Public interest|School events,Holiday celebrations
END:VEVENT
END:VCALENDAR