BEGIN:VCALENDAR
VERSION:2.0
PRODID:-//Waltham Times - ECPv6.15.12.2//NONSGML v1.0//EN
CALSCALE:GREGORIAN
METHOD:PUBLISH
X-ORIGINAL-URL:https://walthamtimes.org
X-WR-CALDESC:Events for Waltham Times
REFRESH-INTERVAL;VALUE=DURATION:PT1H
X-Robots-Tag:noindex
X-PUBLISHED-TTL:PT1H
BEGIN:VTIMEZONE
TZID:America/New_York
BEGIN:DAYLIGHT
TZOFFSETFROM:-0500
TZOFFSETTO:-0400
TZNAME:EDT
DTSTART:20250309T070000
END:DAYLIGHT
BEGIN:STANDARD
TZOFFSETFROM:-0400
TZOFFSETTO:-0500
TZNAME:EST
DTSTART:20251102T060000
END:STANDARD
BEGIN:DAYLIGHT
TZOFFSETFROM:-0500
TZOFFSETTO:-0400
TZNAME:EDT
DTSTART:20260308T070000
END:DAYLIGHT
BEGIN:STANDARD
TZOFFSETFROM:-0400
TZOFFSETTO:-0500
TZNAME:EST
DTSTART:20261101T060000
END:STANDARD
BEGIN:DAYLIGHT
TZOFFSETFROM:-0500
TZOFFSETTO:-0400
TZNAME:EDT
DTSTART:20270314T070000
END:DAYLIGHT
BEGIN:STANDARD
TZOFFSETFROM:-0400
TZOFFSETTO:-0500
TZNAME:EST
DTSTART:20271107T060000
END:STANDARD
END:VTIMEZONE
BEGIN:VEVENT
DTSTART;TZID=America/New_York:20260618T190000
DTEND;TZID=America/New_York:20260618T203000
DTSTAMP:20260419T195536
CREATED:20260114T003942Z
LAST-MODIFIED:20260114T003942Z
UID:10002297-1781809200-1781814600@walthamtimes.org
SUMMARY:Minutemen Toastmasters of Waltham
DESCRIPTION:Gain confidence as a public speaker. Our club\, within Toastmasters International\, works on improving communication and leadership skills in a supportive environment. We meet twice a month\, first and third Thursday nights.  The first meeting of the month is via Zoom\, while the third Thursday meeting is hybrid with the in-person location at Meadow Green. Please join us as our guest. \nEmail Ellie for specific meeting details and information on attending via Zoom.
URL:https://walthamtimes.org/event/minutemen-toastmasters-of-waltham-5/2026-06-18/
LOCATION:Meadow Green Rehabilitation & Nursing Center\, 45 Woburn St. off Trapelo Rd.\, Waltham\, 02452
CATEGORIES:Public interest
ORGANIZER;CN="Judi Goldberg":MAILTO:jude1001@rcn.com
END:VEVENT
END:VCALENDAR