BEGIN:VCALENDAR
VERSION:2.0
PRODID:-//Waltham Times - ECPv6.15.12.2//NONSGML v1.0//EN
CALSCALE:GREGORIAN
METHOD:PUBLISH
X-ORIGINAL-URL:https://walthamtimes.org
X-WR-CALDESC:Events for Waltham Times
REFRESH-INTERVAL;VALUE=DURATION:PT1H
X-Robots-Tag:noindex
X-PUBLISHED-TTL:PT1H
BEGIN:VTIMEZONE
TZID:America/New_York
BEGIN:DAYLIGHT
TZOFFSETFROM:-0500
TZOFFSETTO:-0400
TZNAME:EDT
DTSTART:20250309T070000
END:DAYLIGHT
BEGIN:STANDARD
TZOFFSETFROM:-0400
TZOFFSETTO:-0500
TZNAME:EST
DTSTART:20251102T060000
END:STANDARD
BEGIN:DAYLIGHT
TZOFFSETFROM:-0500
TZOFFSETTO:-0400
TZNAME:EDT
DTSTART:20260308T070000
END:DAYLIGHT
BEGIN:STANDARD
TZOFFSETFROM:-0400
TZOFFSETTO:-0500
TZNAME:EST
DTSTART:20261101T060000
END:STANDARD
BEGIN:DAYLIGHT
TZOFFSETFROM:-0500
TZOFFSETTO:-0400
TZNAME:EDT
DTSTART:20270314T070000
END:DAYLIGHT
BEGIN:STANDARD
TZOFFSETFROM:-0400
TZOFFSETTO:-0500
TZNAME:EST
DTSTART:20271107T060000
END:STANDARD
END:VTIMEZONE
BEGIN:VEVENT
DTSTART;TZID=America/New_York:20260520T110000
DTEND;TZID=America/New_York:20260520T120000
DTSTAMP:20260424T122557
CREATED:20251212T173846Z
LAST-MODIFIED:20251212T173846Z
UID:10001908-1779274800-1779278400@walthamtimes.org
SUMMARY:Training for strong bones
DESCRIPTION:Can bones grow stronger? Yes! Physical therapists will describe the foundations of bone physiology\, fundamentals of strength training\, exercise selection and extremity programming. Seasoned therapists will offer exercise recommendations for cardiovascular exercise and balance exercises as well. \nThis health workshop is a continuation of the Community Outreach Program spanning a variety of health diagnoses\, presented by Mass General Brigham Sports Medicine – Waltham Physical and Occupational Therapy Department. Contact the listed venue for registration details. \n 
URL:https://walthamtimes.org/event/training-for-strong-bones-2/
LOCATION:Newton YMCA\, 276 Church St\, Newton\, MA
CATEGORIES:Health and fitness
END:VEVENT
BEGIN:VEVENT
DTSTART;TZID=America/New_York:20260527T170000
DTEND;TZID=America/New_York:20260527T190000
DTSTAMP:20260424T122557
CREATED:20260422T030537Z
LAST-MODIFIED:20260422T030537Z
UID:10002705-1779901200-1779908400@walthamtimes.org
SUMMARY:Waltham Partnership for Youth's 2026 Partner Celebration
DESCRIPTION:WPY’s Partner Celebration is our annual fundraiser that brings together over 150 guests from the city’s educational\, municipal\, and business sectors to showcase the WPY partnerships that create powerful opportunities for Waltham youth. We will feature a concise\, exciting speaking program\, including a student speaker and keynote speaker. Funds raised at our Partner Celebration enable WPY to run programs for over 800 local students per year.
URL:https://walthamtimes.org/event/waltham-partnership-for-youths-2026-partner-celebration/
LOCATION:Bentley University\, 175 Forest Street\, Waltham\, MA
CATEGORIES:Fund raisers,School events
ATTACH;FMTTYPE=image/png:https://d2iou6x4qarbh6.cloudfront.net/wp-content/uploads/2026/04/21225729/wpy-2026.png
END:VEVENT
BEGIN:VEVENT
DTSTART;TZID=America/New_York:20260601T190000
DTEND;TZID=America/New_York:20260601T213000
DTSTAMP:20260424T122557
CREATED:20260411T193851Z
LAST-MODIFIED:20260412T214808Z
UID:10002623-1780340400-1780349400@walthamtimes.org
SUMMARY:'Enzo' North American premiere
DESCRIPTION:In “Enzo\,” a riveting drama set along the breathtaking coast of the South of France\, a 16-year-old boy defies his bourgeois family’s expectations by starting a masonry apprenticeship. There he meets a charismatic Ukrainian colleague who shakes up his world. Premiered at the Director’s Fortnight at the Cannes Film Festival\, and written and partially directed by Laurent Cantet (“The Workshop\,” BWF 2018)\, who died before being able to finish. \n“Enzo” will screen in recognition of World Refugee Awareness Month and Pride Month as part of Belmont World Film’s 24th International Film Series\, “Thicker than water\,” which explores the ties that bind—and sometimes limit us—through an intimate and far-reaching collection of stories about families in all their complexity. Across cultures and continents\, these films ask what we inherit\, what we carry\, and what we owe one another. The series unfolds over consecutive Mondays at the West Newton Cinema. \nFor complete details on the films in this series\, visit our web site.
URL:https://walthamtimes.org/event/enzo-north-american-premiere/
LOCATION:West Newton Cinema\, 1296 Washington Street\, Newton\, 02904
CATEGORIES:Arts & culture
ATTACH;FMTTYPE=image/jpeg:https://d2iou6x4qarbh6.cloudfront.net/wp-content/uploads/2026/04/11153854/Enzo.jpg
ORGANIZER;CN="Belmont World Film":MAILTO:info@belmontworldfilm.org
END:VEVENT
BEGIN:VEVENT
DTSTART;TZID=America/New_York:20260606T093000
DTEND;TZID=America/New_York:20260606T140000
DTSTAMP:20260424T122557
CREATED:20260422T021951Z
LAST-MODIFIED:20260422T022709Z
UID:10002631-1780738200-1780754400@walthamtimes.org
SUMMARY:Waltham Farmers' Market
DESCRIPTION:Shop local! Shop outdoors! Featuring locally-grown produce\, cheese\, eggs\, meats\, baked goods\, soaps\, sauces\, wine and mead\, and prepared specialty meals to go. \nThe 2026 location is 65 Lexington Street\, the former Elks lodge.  \nThe market is held rain or shine and is wheelchair-\, bicycle- and stroller-accessible. Hours are Saturdays\, 9:30 a.m. – 2:00 p.m.\, from June 6 – October 31\, 2026. \nSNAP/EBT purchases will be matched (doubled) up to $10 per person each week. Licensed HIP EBT sales: Dick’s Market Garden\, Heavens Harvest\, and Sibling Organic Crops. WIC/Senior Coupons: Dick’s Market Garden\, Heavens Harvest\, Sibling Organic Crops\, and Spring Brook Farm. Stop by the Info Tent for details.
URL:https://walthamtimes.org/event/waltham-farmers-market-9/2026-06-06/
LOCATION:65 Lexington Street\, 65 Lexington Street\, Waltham
CATEGORIES:Food and agriculture
ATTACH;FMTTYPE=image/png:https://d2iou6x4qarbh6.cloudfront.net/wp-content/uploads/2026/04/19140204/WFM-logo-transparent-background.png
END:VEVENT
BEGIN:VEVENT
DTSTART;TZID=America/New_York:20260617T100000
DTEND;TZID=America/New_York:20260617T110000
DTSTAMP:20260424T122557
CREATED:20251212T174124Z
LAST-MODIFIED:20251212T174124Z
UID:10001909-1781690400-1781694000@walthamtimes.org
SUMMARY:Exercise and stroke recovery
DESCRIPTION:Exercise is an important part of the recovery process when one has experienced a stroke. This talk will focus on what the research says about why exercise is important and what kinds of exercise are beneficial to improve one’s day to day function. \nThis health workshop is a continuation of the Community Outreach Program spanning a variety of health diagnoses\, presented by Mass General Brigham Sports Medicine – Waltham Physical and Occupational Therapy Department. Contact the listed venue for registration details. \n 
URL:https://walthamtimes.org/event/exercise-and-stroke-recovery/
LOCATION:Waltham YMCA\, 725 Lexington St\, Waltham\, MA
CATEGORIES:Health and fitness
END:VEVENT
END:VCALENDAR