BEGIN:VCALENDAR
VERSION:2.0
PRODID:-//Waltham Times - ECPv6.15.12.2//NONSGML v1.0//EN
CALSCALE:GREGORIAN
METHOD:PUBLISH
X-WR-CALNAME:Waltham Times
X-ORIGINAL-URL:https://walthamtimes.org
X-WR-CALDESC:Events for Waltham Times
REFRESH-INTERVAL;VALUE=DURATION:PT1H
X-Robots-Tag:noindex
X-PUBLISHED-TTL:PT1H
BEGIN:VTIMEZONE
TZID:America/New_York
BEGIN:DAYLIGHT
TZOFFSETFROM:-0500
TZOFFSETTO:-0400
TZNAME:EDT
DTSTART:20250309T070000
END:DAYLIGHT
BEGIN:STANDARD
TZOFFSETFROM:-0400
TZOFFSETTO:-0500
TZNAME:EST
DTSTART:20251102T060000
END:STANDARD
BEGIN:DAYLIGHT
TZOFFSETFROM:-0500
TZOFFSETTO:-0400
TZNAME:EDT
DTSTART:20260308T070000
END:DAYLIGHT
BEGIN:STANDARD
TZOFFSETFROM:-0400
TZOFFSETTO:-0500
TZNAME:EST
DTSTART:20261101T060000
END:STANDARD
BEGIN:DAYLIGHT
TZOFFSETFROM:-0500
TZOFFSETTO:-0400
TZNAME:EDT
DTSTART:20270314T070000
END:DAYLIGHT
BEGIN:STANDARD
TZOFFSETFROM:-0400
TZOFFSETTO:-0500
TZNAME:EST
DTSTART:20271107T060000
END:STANDARD
END:VTIMEZONE
BEGIN:VEVENT
DTSTART;TZID=America/New_York:20260507T190000
DTEND;TZID=America/New_York:20260507T220000
DTSTAMP:20260425T233615
CREATED:20251213T011327Z
LAST-MODIFIED:20251213T011327Z
UID:10001933-1778180400-1778191200@walthamtimes.org
SUMMARY:Conservation Commission meeting
DESCRIPTION:The Conservation Commission typically meets twice each month on Thursdays at 7 p.m. \nMeetings are usually held remotely via Zoom and are open to the public. Visit the commission’s web page for more information (Zoom links are included in each posted agenda).
URL:https://walthamtimes.org/event/conservation-commission-meeting-8/2026-05-07/
LOCATION:Zoom
CATEGORIES:City government,Conservation commission
END:VEVENT
BEGIN:VEVENT
DTSTART;TZID=America/New_York:20260521T190000
DTEND;TZID=America/New_York:20260521T220000
DTSTAMP:20260425T233615
CREATED:20251213T011327Z
LAST-MODIFIED:20251213T011327Z
UID:10001934-1779390000-1779400800@walthamtimes.org
SUMMARY:Conservation Commission meeting
DESCRIPTION:The Conservation Commission typically meets twice each month on Thursdays at 7 p.m. \nMeetings are usually held remotely via Zoom and are open to the public. Visit the commission’s web page for more information (Zoom links are included in each posted agenda).
URL:https://walthamtimes.org/event/conservation-commission-meeting-8/2026-05-21/
LOCATION:Zoom
CATEGORIES:City government,Conservation commission
END:VEVENT
BEGIN:VEVENT
DTSTART;TZID=America/New_York:20260604T190000
DTEND;TZID=America/New_York:20260604T220000
DTSTAMP:20260425T233615
CREATED:20251213T011327Z
LAST-MODIFIED:20251213T011327Z
UID:10001935-1780599600-1780610400@walthamtimes.org
SUMMARY:Conservation Commission meeting
DESCRIPTION:The Conservation Commission typically meets twice each month on Thursdays at 7 p.m. \nMeetings are usually held remotely via Zoom and are open to the public. Visit the commission’s web page for more information (Zoom links are included in each posted agenda).
URL:https://walthamtimes.org/event/conservation-commission-meeting-8/2026-06-04/
LOCATION:Zoom
CATEGORIES:City government,Conservation commission
END:VEVENT
BEGIN:VEVENT
DTSTART;TZID=America/New_York:20260618T190000
DTEND;TZID=America/New_York:20260618T220000
DTSTAMP:20260425T233615
CREATED:20251213T011327Z
LAST-MODIFIED:20251213T011327Z
UID:10001936-1781809200-1781820000@walthamtimes.org
SUMMARY:Conservation Commission meeting
DESCRIPTION:The Conservation Commission typically meets twice each month on Thursdays at 7 p.m. \nMeetings are usually held remotely via Zoom and are open to the public. Visit the commission’s web page for more information (Zoom links are included in each posted agenda).
URL:https://walthamtimes.org/event/conservation-commission-meeting-8/2026-06-18/
LOCATION:Zoom
CATEGORIES:City government,Conservation commission
END:VEVENT
BEGIN:VEVENT
DTSTART;TZID=America/New_York:20260716T190000
DTEND;TZID=America/New_York:20260716T220000
DTSTAMP:20260425T233615
CREATED:20251213T012135Z
LAST-MODIFIED:20251213T012135Z
UID:10001937-1784228400-1784239200@walthamtimes.org
SUMMARY:Conservation Commission meeting
DESCRIPTION:The Conservation Commission typically meets twice each month on Thursdays at 7 p.m. \nMeetings are usually held remotely via Zoom and are open to the public. Visit the commission’s web page for more information (Zoom links are included in each posted agenda).
URL:https://walthamtimes.org/event/conservation-commission-meeting-9/
LOCATION:Zoom
CATEGORIES:City government,Conservation commission
END:VEVENT
BEGIN:VEVENT
DTSTART;TZID=America/New_York:20260813T190000
DTEND;TZID=America/New_York:20260813T220000
DTSTAMP:20260425T233615
CREATED:20251213T012239Z
LAST-MODIFIED:20251213T012239Z
UID:10001946-1786647600-1786658400@walthamtimes.org
SUMMARY:Conservation Commission meeting
DESCRIPTION:The Conservation Commission typically meets twice each month on Thursdays at 7 p.m. \nMeetings are usually held remotely via Zoom and are open to the public. Visit the commission’s web page for more information (Zoom links are included in each posted agenda).
URL:https://walthamtimes.org/event/conservation-commission-meeting-10/
LOCATION:Zoom
CATEGORIES:City government,Conservation commission
END:VEVENT
BEGIN:VEVENT
DTSTART;TZID=America/New_York:20260910T190000
DTEND;TZID=America/New_York:20260910T220000
DTSTAMP:20260425T233615
CREATED:20251213T012547Z
LAST-MODIFIED:20251213T012547Z
UID:10001956-1789066800-1789077600@walthamtimes.org
SUMMARY:Conservation Commission meeting
DESCRIPTION:The Conservation Commission typically meets twice each month on Thursdays at 7 p.m. \nMeetings are usually held remotely via Zoom and are open to the public. Visit the commission’s web page for more information (Zoom links are included in each posted agenda).
URL:https://walthamtimes.org/event/conservation-commission-meeting-11/2026-09-10/
LOCATION:Zoom
CATEGORIES:City government,Conservation commission
END:VEVENT
BEGIN:VEVENT
DTSTART;TZID=America/New_York:20260924T190000
DTEND;TZID=America/New_York:20260924T220000
DTSTAMP:20260425T233615
CREATED:20251213T012547Z
LAST-MODIFIED:20251213T012547Z
UID:10001957-1790276400-1790287200@walthamtimes.org
SUMMARY:Conservation Commission meeting
DESCRIPTION:The Conservation Commission typically meets twice each month on Thursdays at 7 p.m. \nMeetings are usually held remotely via Zoom and are open to the public. Visit the commission’s web page for more information (Zoom links are included in each posted agenda).
URL:https://walthamtimes.org/event/conservation-commission-meeting-11/2026-09-24/
LOCATION:Zoom
CATEGORIES:City government,Conservation commission
END:VEVENT
BEGIN:VEVENT
DTSTART;TZID=America/New_York:20261008T190000
DTEND;TZID=America/New_York:20261008T220000
DTSTAMP:20260425T233615
CREATED:20251213T012547Z
LAST-MODIFIED:20251213T012547Z
UID:10001958-1791486000-1791496800@walthamtimes.org
SUMMARY:Conservation Commission meeting
DESCRIPTION:The Conservation Commission typically meets twice each month on Thursdays at 7 p.m. \nMeetings are usually held remotely via Zoom and are open to the public. Visit the commission’s web page for more information (Zoom links are included in each posted agenda).
URL:https://walthamtimes.org/event/conservation-commission-meeting-11/2026-10-08/
LOCATION:Zoom
CATEGORIES:City government,Conservation commission
END:VEVENT
BEGIN:VEVENT
DTSTART;TZID=America/New_York:20261022T190000
DTEND;TZID=America/New_York:20261022T220000
DTSTAMP:20260425T233615
CREATED:20251213T012547Z
LAST-MODIFIED:20251213T012547Z
UID:10001959-1792695600-1792706400@walthamtimes.org
SUMMARY:Conservation Commission meeting
DESCRIPTION:The Conservation Commission typically meets twice each month on Thursdays at 7 p.m. \nMeetings are usually held remotely via Zoom and are open to the public. Visit the commission’s web page for more information (Zoom links are included in each posted agenda).
URL:https://walthamtimes.org/event/conservation-commission-meeting-11/2026-10-22/
LOCATION:Zoom
CATEGORIES:City government,Conservation commission
END:VEVENT
BEGIN:VEVENT
DTSTART;TZID=America/New_York:20261105T190000
DTEND;TZID=America/New_York:20261105T220000
DTSTAMP:20260425T233615
CREATED:20251213T012547Z
LAST-MODIFIED:20251213T012547Z
UID:10001960-1793905200-1793916000@walthamtimes.org
SUMMARY:Conservation Commission meeting
DESCRIPTION:The Conservation Commission typically meets twice each month on Thursdays at 7 p.m. \nMeetings are usually held remotely via Zoom and are open to the public. Visit the commission’s web page for more information (Zoom links are included in each posted agenda).
URL:https://walthamtimes.org/event/conservation-commission-meeting-11/2026-11-05/
LOCATION:Zoom
CATEGORIES:City government,Conservation commission
END:VEVENT
BEGIN:VEVENT
DTSTART;TZID=America/New_York:20261119T190000
DTEND;TZID=America/New_York:20261119T220000
DTSTAMP:20260425T233615
CREATED:20251213T012547Z
LAST-MODIFIED:20251213T012547Z
UID:10001961-1795114800-1795125600@walthamtimes.org
SUMMARY:Conservation Commission meeting
DESCRIPTION:The Conservation Commission typically meets twice each month on Thursdays at 7 p.m. \nMeetings are usually held remotely via Zoom and are open to the public. Visit the commission’s web page for more information (Zoom links are included in each posted agenda).
URL:https://walthamtimes.org/event/conservation-commission-meeting-11/2026-11-19/
LOCATION:Zoom
CATEGORIES:City government,Conservation commission
END:VEVENT
BEGIN:VEVENT
DTSTART;TZID=America/New_York:20261203T190000
DTEND;TZID=America/New_York:20261203T220000
DTSTAMP:20260425T233615
CREATED:20251213T012547Z
LAST-MODIFIED:20251213T012547Z
UID:10001962-1796324400-1796335200@walthamtimes.org
SUMMARY:Conservation Commission meeting
DESCRIPTION:The Conservation Commission typically meets twice each month on Thursdays at 7 p.m. \nMeetings are usually held remotely via Zoom and are open to the public. Visit the commission’s web page for more information (Zoom links are included in each posted agenda).
URL:https://walthamtimes.org/event/conservation-commission-meeting-11/2026-12-03/
LOCATION:Zoom
CATEGORIES:City government,Conservation commission
END:VEVENT
BEGIN:VEVENT
DTSTART;TZID=America/New_York:20261217T190000
DTEND;TZID=America/New_York:20261217T220000
DTSTAMP:20260425T233615
CREATED:20251213T012547Z
LAST-MODIFIED:20251213T012547Z
UID:10001963-1797534000-1797544800@walthamtimes.org
SUMMARY:Conservation Commission meeting
DESCRIPTION:The Conservation Commission typically meets twice each month on Thursdays at 7 p.m. \nMeetings are usually held remotely via Zoom and are open to the public. Visit the commission’s web page for more information (Zoom links are included in each posted agenda).
URL:https://walthamtimes.org/event/conservation-commission-meeting-11/2026-12-17/
LOCATION:Zoom
CATEGORIES:City government,Conservation commission
END:VEVENT
END:VCALENDAR