BEGIN:VCALENDAR
VERSION:2.0
PRODID:-//Waltham Times - ECPv6.15.12.2//NONSGML v1.0//EN
CALSCALE:GREGORIAN
METHOD:PUBLISH
X-WR-CALNAME:Waltham Times
X-ORIGINAL-URL:https://walthamtimes.org
X-WR-CALDESC:Events for Waltham Times
REFRESH-INTERVAL;VALUE=DURATION:PT1H
X-Robots-Tag:noindex
X-PUBLISHED-TTL:PT1H
BEGIN:VTIMEZONE
TZID:America/New_York
BEGIN:DAYLIGHT
TZOFFSETFROM:-0500
TZOFFSETTO:-0400
TZNAME:EDT
DTSTART:20250309T070000
END:DAYLIGHT
BEGIN:STANDARD
TZOFFSETFROM:-0400
TZOFFSETTO:-0500
TZNAME:EST
DTSTART:20251102T060000
END:STANDARD
BEGIN:DAYLIGHT
TZOFFSETFROM:-0500
TZOFFSETTO:-0400
TZNAME:EDT
DTSTART:20260308T070000
END:DAYLIGHT
BEGIN:STANDARD
TZOFFSETFROM:-0400
TZOFFSETTO:-0500
TZNAME:EST
DTSTART:20261101T060000
END:STANDARD
BEGIN:DAYLIGHT
TZOFFSETFROM:-0500
TZOFFSETTO:-0400
TZNAME:EDT
DTSTART:20270314T070000
END:DAYLIGHT
BEGIN:STANDARD
TZOFFSETFROM:-0400
TZOFFSETTO:-0500
TZNAME:EST
DTSTART:20271107T060000
END:STANDARD
END:VTIMEZONE
BEGIN:VEVENT
DTSTART;TZID=America/New_York:20260120T180000
DTEND;TZID=America/New_York:20260120T200000
DTSTAMP:20260420T130543
CREATED:20260112T174508Z
LAST-MODIFIED:20260113T032003Z
UID:10002308-1768932000-1768939200@walthamtimes.org
SUMMARY:Opportunities for Inclusion annual meeting
DESCRIPTION:Opportunities for Inclusion’s 69th annual meeting will feature keynote speaker Thomas M. Stanley\, 9th Middlesex State Representative\, along with the Staff Longevity & Community Recognition Awards. This event is hybrid and open to the public. \nIn-person location:  Opportunities for Inclusion\, 56 Chestnut Street\, Waltham\, MA.\nZoom attendees: Please contact OFI at 781-899-1344 x4147 for the Zoom Meeting ID.
URL:https://walthamtimes.org/event/opportunities-for-inclusion-annual-meeting/
LOCATION:Opportunities for Inclusion\, 56 Chestnut St\, Waltham\, MA\, 02453
CATEGORIES:Public interest
ATTACH;FMTTYPE=image/jpeg:https://d2iou6x4qarbh6.cloudfront.net/wp-content/uploads/2026/01/12124518/Annual-Meeting-INVITE-without-meeting-id-1-20-26-scaled.jpg
ORGANIZER;CN="Opportunities for Inclusion (formerly GWArc)":MAILTO:mmaloney@oppsforinclusion.org
END:VEVENT
END:VCALENDAR