BEGIN:VCALENDAR
VERSION:2.0
PRODID:-//Waltham Times - ECPv6.15.12.2//NONSGML v1.0//EN
CALSCALE:GREGORIAN
METHOD:PUBLISH
X-ORIGINAL-URL:https://walthamtimes.org
X-WR-CALDESC:Events for Waltham Times
REFRESH-INTERVAL;VALUE=DURATION:PT1H
X-Robots-Tag:noindex
X-PUBLISHED-TTL:PT1H
BEGIN:VTIMEZONE
TZID:America/New_York
BEGIN:DAYLIGHT
TZOFFSETFROM:-0500
TZOFFSETTO:-0400
TZNAME:EDT
DTSTART:20250309T070000
END:DAYLIGHT
BEGIN:STANDARD
TZOFFSETFROM:-0400
TZOFFSETTO:-0500
TZNAME:EST
DTSTART:20251102T060000
END:STANDARD
BEGIN:DAYLIGHT
TZOFFSETFROM:-0500
TZOFFSETTO:-0400
TZNAME:EDT
DTSTART:20260308T070000
END:DAYLIGHT
BEGIN:STANDARD
TZOFFSETFROM:-0400
TZOFFSETTO:-0500
TZNAME:EST
DTSTART:20261101T060000
END:STANDARD
BEGIN:DAYLIGHT
TZOFFSETFROM:-0500
TZOFFSETTO:-0400
TZNAME:EDT
DTSTART:20270314T070000
END:DAYLIGHT
BEGIN:STANDARD
TZOFFSETFROM:-0400
TZOFFSETTO:-0500
TZNAME:EST
DTSTART:20271107T060000
END:STANDARD
END:VTIMEZONE
BEGIN:VEVENT
DTSTART;TZID=America/New_York:20260425T090000
DTEND;TZID=America/New_York:20260425T120000
DTSTAMP:20260422T215028
CREATED:20260421T155224Z
LAST-MODIFIED:20260422T132035Z
UID:10002731-1777107600-1777118400@walthamtimes.org
SUMMARY:Annual citywide clean-up
DESCRIPTION:Join us as we clean up the city of trash and litter! We are seeking volunteers including students\, shopkeepers\, neighbors\, service organizations\, large corporations\, churches\, youth organizations and more. Volunteers may join as individuals or in groups to work in parks and on streets and sidewalks. \nMeet at at the rear of the DPW building at 155 Lexington Street at 9 a.m. Email Chris Falzone or call 781-314-3859.
URL:https://walthamtimes.org/event/annual-citywide-clean-up-2/
LOCATION:Waltham DPW\, 155 Lexington Street\, Waltham\, MA\, 02452\, United States
CATEGORIES:City government,Public interest
ATTACH;FMTTYPE=image/jpeg:https://d2iou6x4qarbh6.cloudfront.net/wp-content/uploads/2026/04/22091946/annual_citywide_clean_up.jpg
END:VEVENT
END:VCALENDAR