BEGIN:VCALENDAR
VERSION:2.0
PRODID:-//Waltham Times - ECPv6.15.12.2//NONSGML v1.0//EN
CALSCALE:GREGORIAN
METHOD:PUBLISH
X-ORIGINAL-URL:https://walthamtimes.org
X-WR-CALDESC:Events for Waltham Times
REFRESH-INTERVAL;VALUE=DURATION:PT1H
X-Robots-Tag:noindex
X-PUBLISHED-TTL:PT1H
BEGIN:VTIMEZONE
TZID:America/New_York
BEGIN:DAYLIGHT
TZOFFSETFROM:-0500
TZOFFSETTO:-0400
TZNAME:EDT
DTSTART:20250309T070000
END:DAYLIGHT
BEGIN:STANDARD
TZOFFSETFROM:-0400
TZOFFSETTO:-0500
TZNAME:EST
DTSTART:20251102T060000
END:STANDARD
BEGIN:DAYLIGHT
TZOFFSETFROM:-0500
TZOFFSETTO:-0400
TZNAME:EDT
DTSTART:20260308T070000
END:DAYLIGHT
BEGIN:STANDARD
TZOFFSETFROM:-0400
TZOFFSETTO:-0500
TZNAME:EST
DTSTART:20261101T060000
END:STANDARD
BEGIN:DAYLIGHT
TZOFFSETFROM:-0500
TZOFFSETTO:-0400
TZNAME:EDT
DTSTART:20270314T070000
END:DAYLIGHT
BEGIN:STANDARD
TZOFFSETFROM:-0400
TZOFFSETTO:-0500
TZNAME:EST
DTSTART:20271107T060000
END:STANDARD
END:VTIMEZONE
BEGIN:VEVENT
DTSTART;TZID=America/New_York:20260219T183000
DTEND;TZID=America/New_York:20260219T200000
DTSTAMP:20260425T144414
CREATED:20260204T172523Z
LAST-MODIFIED:20260204T172714Z
UID:10002353-1771525800-1771531200@walthamtimes.org
SUMMARY:The History of Hip Hop
DESCRIPTION:Learn about the history of hip hop with Professor Rondae Drafts\, Ph.D. Rondae is Executive Director of MUSIC Dance.Edu\, specializing in performing arts opportunities and music education throughout New England. Look forward to a dance demonstration and instruction from Rondae! \nIn the lecture hall.
URL:https://walthamtimes.org/event/the-history-of-hip-hop/
LOCATION:Waltham Public Library\, 735 Main St\, Waltham\, MA\, 02451\, United States
CATEGORIES:Arts & culture,Library
END:VEVENT
END:VCALENDAR