BEGIN:VCALENDAR
VERSION:2.0
PRODID:-//Waltham Times - ECPv6.15.12.2//NONSGML v1.0//EN
CALSCALE:GREGORIAN
METHOD:PUBLISH
X-WR-CALNAME:Waltham Times
X-ORIGINAL-URL:https://walthamtimes.org
X-WR-CALDESC:Events for Waltham Times
REFRESH-INTERVAL;VALUE=DURATION:PT1H
X-Robots-Tag:noindex
X-PUBLISHED-TTL:PT1H
BEGIN:VTIMEZONE
TZID:America/New_York
BEGIN:DAYLIGHT
TZOFFSETFROM:-0500
TZOFFSETTO:-0400
TZNAME:EDT
DTSTART:20240310T070000
END:DAYLIGHT
BEGIN:STANDARD
TZOFFSETFROM:-0400
TZOFFSETTO:-0500
TZNAME:EST
DTSTART:20241103T060000
END:STANDARD
BEGIN:DAYLIGHT
TZOFFSETFROM:-0500
TZOFFSETTO:-0400
TZNAME:EDT
DTSTART:20250309T070000
END:DAYLIGHT
BEGIN:STANDARD
TZOFFSETFROM:-0400
TZOFFSETTO:-0500
TZNAME:EST
DTSTART:20251102T060000
END:STANDARD
BEGIN:DAYLIGHT
TZOFFSETFROM:-0500
TZOFFSETTO:-0400
TZNAME:EDT
DTSTART:20260308T070000
END:DAYLIGHT
BEGIN:STANDARD
TZOFFSETFROM:-0400
TZOFFSETTO:-0500
TZNAME:EST
DTSTART:20261101T060000
END:STANDARD
END:VTIMEZONE
BEGIN:VEVENT
DTSTART;TZID=America/New_York:20250618T190000
DTEND;TZID=America/New_York:20250618T200000
DTSTAMP:20260422T065441
CREATED:20250606T023751Z
LAST-MODIFIED:20250606T023751Z
UID:10000912-1750273200-1750276800@walthamtimes.org
SUMMARY:Celtic duo Mrs. Wilberforce
DESCRIPTION:The Celtic duo Mrs. Wilberforce (Kyra Davies\, fiddle and vocals; Sean Smith\, guitar\, bouzouki\, tenor banjo\, vocals) play music from Ireland\, Scotland\, Cape Breton\, Shetland\, Brittany and Galicia. This wonderful duo will fill the 1793 Carriage House with their unforgettable sound. And they’ll even tell the story of their unusual name! \nDoors open at 6:30 p.m. Advance tickets are now on sale at www.goreplace.org. Tickets will also be available at the door. Parking is free.
URL:https://walthamtimes.org/event/celtic-duo-mrs-wilberforce/
LOCATION:Gore Place\, 52 Gore Street
CATEGORIES:Musical performances,Public interest
END:VEVENT
END:VCALENDAR