BEGIN:VCALENDAR
VERSION:2.0
PRODID:-//Waltham Times - ECPv6.15.12.2//NONSGML v1.0//EN
CALSCALE:GREGORIAN
METHOD:PUBLISH
X-ORIGINAL-URL:https://walthamtimes.org
X-WR-CALDESC:Events for Waltham Times
REFRESH-INTERVAL;VALUE=DURATION:PT1H
X-Robots-Tag:noindex
X-PUBLISHED-TTL:PT1H
BEGIN:VTIMEZONE
TZID:America/New_York
BEGIN:DAYLIGHT
TZOFFSETFROM:-0500
TZOFFSETTO:-0400
TZNAME:EDT
DTSTART:20240310T070000
END:DAYLIGHT
BEGIN:STANDARD
TZOFFSETFROM:-0400
TZOFFSETTO:-0500
TZNAME:EST
DTSTART:20241103T060000
END:STANDARD
BEGIN:DAYLIGHT
TZOFFSETFROM:-0500
TZOFFSETTO:-0400
TZNAME:EDT
DTSTART:20250309T070000
END:DAYLIGHT
BEGIN:STANDARD
TZOFFSETFROM:-0400
TZOFFSETTO:-0500
TZNAME:EST
DTSTART:20251102T060000
END:STANDARD
BEGIN:DAYLIGHT
TZOFFSETFROM:-0500
TZOFFSETTO:-0400
TZNAME:EDT
DTSTART:20260308T070000
END:DAYLIGHT
BEGIN:STANDARD
TZOFFSETFROM:-0400
TZOFFSETTO:-0500
TZNAME:EST
DTSTART:20261101T060000
END:STANDARD
END:VTIMEZONE
BEGIN:VEVENT
DTSTART;TZID=America/New_York:20251119T190000
DTEND;TZID=America/New_York:20251119T200000
DTSTAMP:20260419T081534
CREATED:20251111T215346Z
LAST-MODIFIED:20251111T215346Z
UID:10001795-1763578800-1763582400@walthamtimes.org
SUMMARY:Mill Talk: What is industrial archeology? Its past and future.
DESCRIPTION:This presentation will explain what industrial archeology is. It will trace the history of the field\, from its beginnings in England in the 1950s and the founding of the U.S. Society for Industrial Archeology in 1971\, to the present\, and describe some of its contributions\, like the early surveys of historic textile mills. It will cover its connections to allied history and practice fields\, like history of technology and historic preservation. Wermiel will conclude by presenting her ideas for what the field might focus on\, to have a purpose that can sustain it. \nSara E. Wermiel is an independent scholar\, historic preservation consultant\, and teacher. Her research focuses on nineteenth century building technology\, construction history\, building types\, and industrialization. She currently teaches Preservation Planning in the Preservation Studies Program at Boston University. \nFree to the public\, but registration required. \nDoors open at 6:30 p.m. \n 
URL:https://walthamtimes.org/event/mill-talk-what-is-industrial-archeology-its-past-and-future/
LOCATION:Charles River Museum of Industry & Innovation\, 154 Moody Street\, Waltham\, 02453\, United States
CATEGORIES:History,Public interest
END:VEVENT
END:VCALENDAR