BEGIN:VCALENDAR
VERSION:2.0
PRODID:-//Waltham Times - ECPv6.15.12.2//NONSGML v1.0//EN
CALSCALE:GREGORIAN
METHOD:PUBLISH
X-WR-CALNAME:Waltham Times
X-ORIGINAL-URL:https://walthamtimes.org
X-WR-CALDESC:Events for Waltham Times
REFRESH-INTERVAL;VALUE=DURATION:PT1H
X-Robots-Tag:noindex
X-PUBLISHED-TTL:PT1H
BEGIN:VTIMEZONE
TZID:America/New_York
BEGIN:DAYLIGHT
TZOFFSETFROM:-0500
TZOFFSETTO:-0400
TZNAME:EDT
DTSTART:20250309T070000
END:DAYLIGHT
BEGIN:STANDARD
TZOFFSETFROM:-0400
TZOFFSETTO:-0500
TZNAME:EST
DTSTART:20251102T060000
END:STANDARD
BEGIN:DAYLIGHT
TZOFFSETFROM:-0500
TZOFFSETTO:-0400
TZNAME:EDT
DTSTART:20260308T070000
END:DAYLIGHT
BEGIN:STANDARD
TZOFFSETFROM:-0400
TZOFFSETTO:-0500
TZNAME:EST
DTSTART:20261101T060000
END:STANDARD
BEGIN:DAYLIGHT
TZOFFSETFROM:-0500
TZOFFSETTO:-0400
TZNAME:EDT
DTSTART:20270314T070000
END:DAYLIGHT
BEGIN:STANDARD
TZOFFSETFROM:-0400
TZOFFSETTO:-0500
TZNAME:EST
DTSTART:20271107T060000
END:STANDARD
END:VTIMEZONE
BEGIN:VEVENT
DTSTART;TZID=America/New_York:20260115T183000
DTEND;TZID=America/New_York:20260115T200000
DTSTAMP:20260421T100348
CREATED:20251207T180105Z
LAST-MODIFIED:20251212T163550Z
UID:10001897-1768501800-1768507200@walthamtimes.org
SUMMARY:First time homebuyer class at Tempo
DESCRIPTION:Join us at Tempo Bistro for a free informative event that is perfect for anyone looking to navigate the home-buying process. Cassie Dowling\, real estate agent with Coldwell Banker\, along with real estate attorney Katie Frazier of Touchstone Closing and Mona Wong of Cross Country Mortgage\, will share their expertise and guide you through the steps of purchasing your first home. \nDon’t miss this opportunity to learn from the best in a casual and informative setting. Enjoy appetizers and drinks as you mingle with fellow first-time buyers and get your questions answered. Space is limited to 40 attendees\, so RSVP early to secure your spot. See you there!
URL:https://walthamtimes.org/event/first-time-homebuyer-class-at-tempo/
LOCATION:Tempo\, 474 Moody St\, Waltham\, MA
CATEGORIES:Public interest
ATTACH;FMTTYPE=image/jpeg:https://d2iou6x4qarbh6.cloudfront.net/wp-content/uploads/2025/12/07130109/first-time-home-buyers-jan-26.jpeg
ORGANIZER;CN="Cassie Dowling":MAILTO:cassie.dowling@cbrealty.com
END:VEVENT
END:VCALENDAR