BEGIN:VCALENDAR
VERSION:2.0
PRODID:-//Waltham Times - ECPv6.15.12.2//NONSGML v1.0//EN
CALSCALE:GREGORIAN
METHOD:PUBLISH
X-WR-CALNAME:Waltham Times
X-ORIGINAL-URL:https://walthamtimes.org
X-WR-CALDESC:Events for Waltham Times
REFRESH-INTERVAL;VALUE=DURATION:PT1H
X-Robots-Tag:noindex
X-PUBLISHED-TTL:PT1H
BEGIN:VTIMEZONE
TZID:America/New_York
BEGIN:DAYLIGHT
TZOFFSETFROM:-0500
TZOFFSETTO:-0400
TZNAME:EDT
DTSTART:20250309T070000
END:DAYLIGHT
BEGIN:STANDARD
TZOFFSETFROM:-0400
TZOFFSETTO:-0500
TZNAME:EST
DTSTART:20251102T060000
END:STANDARD
BEGIN:DAYLIGHT
TZOFFSETFROM:-0500
TZOFFSETTO:-0400
TZNAME:EDT
DTSTART:20260308T070000
END:DAYLIGHT
BEGIN:STANDARD
TZOFFSETFROM:-0400
TZOFFSETTO:-0500
TZNAME:EST
DTSTART:20261101T060000
END:STANDARD
BEGIN:DAYLIGHT
TZOFFSETFROM:-0500
TZOFFSETTO:-0400
TZNAME:EDT
DTSTART:20270314T070000
END:DAYLIGHT
BEGIN:STANDARD
TZOFFSETFROM:-0400
TZOFFSETTO:-0500
TZNAME:EST
DTSTART:20271107T060000
END:STANDARD
END:VTIMEZONE
BEGIN:VEVENT
DTSTART;TZID=America/New_York:20260424T120000
DTEND;TZID=America/New_York:20260424T140000
DTSTAMP:20260419T150200
CREATED:20260416T155340Z
LAST-MODIFIED:20260416T155738Z
UID:10002626-1777032000-1777039200@walthamtimes.org
SUMMARY:Brandeis cross-campus art tour
DESCRIPTION:Spend the afternoon exploring art across campus. Start at the Kniznick Gallery with a tour of “Who Will Draw Our History?” featuring powerful graphic narratives by women Holocaust survivors who began documenting their experiences just days after liberation. Then walk with us to the Rose Art Museum to explore “Photorealism in Focus” and “Fabricated Imaginaries: Crafting Art\,” where we’ll consider the role of artists as witnesses and storytellers. We’ll close with “Yinka Shonibare: Sanctuary\,” a striking installation of 18 architectural models that reflect on refuge\, vulnerability\, and our shared responsibility to one another. \nPlease register in advance. \n 
URL:https://walthamtimes.org/event/brandeis-cross-campus-art-tour/
LOCATION:Rose Art Museum\, 415 South Street\, Waltham\, MA\, 02453\, United States
CATEGORIES:Arts & culture
END:VEVENT
END:VCALENDAR