BEGIN:VCALENDAR
VERSION:2.0
PRODID:-//Waltham Times - ECPv6.15.12.2//NONSGML v1.0//EN
CALSCALE:GREGORIAN
METHOD:PUBLISH
X-ORIGINAL-URL:https://walthamtimes.org
X-WR-CALDESC:Events for Waltham Times
REFRESH-INTERVAL;VALUE=DURATION:PT1H
X-Robots-Tag:noindex
X-PUBLISHED-TTL:PT1H
BEGIN:VTIMEZONE
TZID:America/New_York
BEGIN:DAYLIGHT
TZOFFSETFROM:-0500
TZOFFSETTO:-0400
TZNAME:EDT
DTSTART:20240310T070000
END:DAYLIGHT
BEGIN:STANDARD
TZOFFSETFROM:-0400
TZOFFSETTO:-0500
TZNAME:EST
DTSTART:20241103T060000
END:STANDARD
BEGIN:DAYLIGHT
TZOFFSETFROM:-0500
TZOFFSETTO:-0400
TZNAME:EDT
DTSTART:20250309T070000
END:DAYLIGHT
BEGIN:STANDARD
TZOFFSETFROM:-0400
TZOFFSETTO:-0500
TZNAME:EST
DTSTART:20251102T060000
END:STANDARD
BEGIN:DAYLIGHT
TZOFFSETFROM:-0500
TZOFFSETTO:-0400
TZNAME:EDT
DTSTART:20260308T070000
END:DAYLIGHT
BEGIN:STANDARD
TZOFFSETFROM:-0400
TZOFFSETTO:-0500
TZNAME:EST
DTSTART:20261101T060000
END:STANDARD
END:VTIMEZONE
BEGIN:VEVENT
DTSTART;TZID=America/New_York:20251103T190000
DTEND;TZID=America/New_York:20251103T203000
DTSTAMP:20260423T110258
CREATED:20251024T155842Z
LAST-MODIFIED:20251024T155842Z
UID:10001754-1762196400-1762201800@walthamtimes.org
SUMMARY:Introduction to the Jewish bookshelf
DESCRIPTION:You want to learn more about Judaism\, but where do you start? We are known as The People of the Book\, so it’s a great idea to get to know the framework of some of our foundational literature. \nIntroduction to the Jewish bookshelf presents texts that will be your entryway into conversations about creation in the Torah\, self-defense in rabbinic texts\, and revelation through the eyes of modern thinkers. \nThis class is for all levels of learners. We will meet in person on the following Mondays (location to be shared upon sign-up).  A minimum of eight participants is required. \nNov 3 – In the Beginning\nNov 17 – Turning to Midrash\nDec 1 – Turning to the Commentators\nDec 22 – The Mishnah as Oral Law\nJan 5\, 2026 – Turning to the Talmud\nJan 26 – The Legal Codes\nTwo Feb dates (TBD) – The Hasidic Masters and Modern Jewish Theologians\nMar 9 – Jewish Feminist Theologians\nMar 23 – Poetry and Creative Midrash\nApr 6 – makeup session \nAll classes will meet in person (or on Zoom in case of inclement weather). \nThis class is funded through a Hadar Community Group grant\, a program to foster engagement around Jewish study and practice. The class will be led by Temple Beth Israel member Scott A. Tepper. Scott has a BA in Near Eastern and Judaic Studies from Brandeis University\, and a Master’s from the Harvard Graduate School of Education. He is honored to be approved as a Hadar Community Group Leader. \nTo sign up or if you have questions\, please contact Scott at stepper612@hotmail.com.
URL:https://walthamtimes.org/event/introduction-to-the-jewish-bookshelf/
LOCATION:Temple Beth Israel\, 25 Harvard Street\, Waltham\, MA
CATEGORIES:Public interest
END:VEVENT
END:VCALENDAR