BEGIN:VCALENDAR
VERSION:2.0
PRODID:-//Waltham Times - ECPv6.15.12.2//NONSGML v1.0//EN
CALSCALE:GREGORIAN
METHOD:PUBLISH
X-ORIGINAL-URL:https://walthamtimes.org
X-WR-CALDESC:Events for Waltham Times
REFRESH-INTERVAL;VALUE=DURATION:PT1H
X-Robots-Tag:noindex
X-PUBLISHED-TTL:PT1H
BEGIN:VTIMEZONE
TZID:America/New_York
BEGIN:DAYLIGHT
TZOFFSETFROM:-0500
TZOFFSETTO:-0400
TZNAME:EDT
DTSTART:20250309T070000
END:DAYLIGHT
BEGIN:STANDARD
TZOFFSETFROM:-0400
TZOFFSETTO:-0500
TZNAME:EST
DTSTART:20251102T060000
END:STANDARD
BEGIN:DAYLIGHT
TZOFFSETFROM:-0500
TZOFFSETTO:-0400
TZNAME:EDT
DTSTART:20260308T070000
END:DAYLIGHT
BEGIN:STANDARD
TZOFFSETFROM:-0400
TZOFFSETTO:-0500
TZNAME:EST
DTSTART:20261101T060000
END:STANDARD
BEGIN:DAYLIGHT
TZOFFSETFROM:-0500
TZOFFSETTO:-0400
TZNAME:EDT
DTSTART:20270314T070000
END:DAYLIGHT
BEGIN:STANDARD
TZOFFSETFROM:-0400
TZOFFSETTO:-0500
TZNAME:EST
DTSTART:20271107T060000
END:STANDARD
END:VTIMEZONE
BEGIN:VEVENT
DTSTART;TZID=America/New_York:20260303T093000
DTEND;TZID=America/New_York:20260303T160000
DTSTAMP:20260421T160145
CREATED:20260227T155735Z
LAST-MODIFIED:20260227T160249Z
UID:10002436-1772530200-1772553600@walthamtimes.org
SUMMARY:Camellia Days at the Lyman Estate Greenhouses
DESCRIPTION:Visit our celebrated collection of camellias in the 1804 camellia house at the Lyman Estate Greenhouses. Treat yourself to a mini-vacation and soak up the atmosphere and colors of the tropics\, along with some history. Enjoy the 100-year-old camellias in full bloom at one of the oldest greenhouses in the United States. Historic New England members save 10% on purchases. \nTickets are not required to see the camellias in bloom. Please call 617-994-5913 or visit here for more information. \nThis event is open Tuesday to Saturday. Final day: March 24.
URL:https://walthamtimes.org/event/camellia-days-at-the-lyman-estate-greenhouses/2026-03-03/
LOCATION:Lyman Estate Greenhouse\, 185 Lyman Street\, Waltham\, MA\, 02452\, United States
CATEGORIES:Gardening,Public interest
ATTACH;FMTTYPE=image/jpeg:https://d2iou6x4qarbh6.cloudfront.net/wp-content/uploads/2026/02/27095822/Camellia-Days.jpg
END:VEVENT
BEGIN:VEVENT
DTSTART;TZID=America/New_York:20260310T093000
DTEND;TZID=America/New_York:20260310T160000
DTSTAMP:20260421T160145
CREATED:20260227T155735Z
LAST-MODIFIED:20260227T160249Z
UID:10002437-1773135000-1773158400@walthamtimes.org
SUMMARY:Camellia Days at the Lyman Estate Greenhouses
DESCRIPTION:Visit our celebrated collection of camellias in the 1804 camellia house at the Lyman Estate Greenhouses. Treat yourself to a mini-vacation and soak up the atmosphere and colors of the tropics\, along with some history. Enjoy the 100-year-old camellias in full bloom at one of the oldest greenhouses in the United States. Historic New England members save 10% on purchases. \nTickets are not required to see the camellias in bloom. Please call 617-994-5913 or visit here for more information. \nThis event is open Tuesday to Saturday. Final day: March 24.
URL:https://walthamtimes.org/event/camellia-days-at-the-lyman-estate-greenhouses/2026-03-10/
LOCATION:Lyman Estate Greenhouse\, 185 Lyman Street\, Waltham\, MA\, 02452\, United States
CATEGORIES:Gardening,Public interest
ATTACH;FMTTYPE=image/jpeg:https://d2iou6x4qarbh6.cloudfront.net/wp-content/uploads/2026/02/27095822/Camellia-Days.jpg
END:VEVENT
BEGIN:VEVENT
DTSTART;TZID=America/New_York:20260317T093000
DTEND;TZID=America/New_York:20260317T160000
DTSTAMP:20260421T160145
CREATED:20260227T155735Z
LAST-MODIFIED:20260227T160249Z
UID:10002438-1773739800-1773763200@walthamtimes.org
SUMMARY:Camellia Days at the Lyman Estate Greenhouses
DESCRIPTION:Visit our celebrated collection of camellias in the 1804 camellia house at the Lyman Estate Greenhouses. Treat yourself to a mini-vacation and soak up the atmosphere and colors of the tropics\, along with some history. Enjoy the 100-year-old camellias in full bloom at one of the oldest greenhouses in the United States. Historic New England members save 10% on purchases. \nTickets are not required to see the camellias in bloom. Please call 617-994-5913 or visit here for more information. \nThis event is open Tuesday to Saturday. Final day: March 24.
URL:https://walthamtimes.org/event/camellia-days-at-the-lyman-estate-greenhouses/2026-03-17/
LOCATION:Lyman Estate Greenhouse\, 185 Lyman Street\, Waltham\, MA\, 02452\, United States
CATEGORIES:Gardening,Public interest
ATTACH;FMTTYPE=image/jpeg:https://d2iou6x4qarbh6.cloudfront.net/wp-content/uploads/2026/02/27095822/Camellia-Days.jpg
END:VEVENT
BEGIN:VEVENT
DTSTART;TZID=America/New_York:20260324T093000
DTEND;TZID=America/New_York:20260324T160000
DTSTAMP:20260421T160145
CREATED:20260227T155735Z
LAST-MODIFIED:20260227T160249Z
UID:10002439-1774344600-1774368000@walthamtimes.org
SUMMARY:Camellia Days at the Lyman Estate Greenhouses
DESCRIPTION:Visit our celebrated collection of camellias in the 1804 camellia house at the Lyman Estate Greenhouses. Treat yourself to a mini-vacation and soak up the atmosphere and colors of the tropics\, along with some history. Enjoy the 100-year-old camellias in full bloom at one of the oldest greenhouses in the United States. Historic New England members save 10% on purchases. \nTickets are not required to see the camellias in bloom. Please call 617-994-5913 or visit here for more information. \nThis event is open Tuesday to Saturday. Final day: March 24.
URL:https://walthamtimes.org/event/camellia-days-at-the-lyman-estate-greenhouses/2026-03-24/
LOCATION:Lyman Estate Greenhouse\, 185 Lyman Street\, Waltham\, MA\, 02452\, United States
CATEGORIES:Gardening,Public interest
ATTACH;FMTTYPE=image/jpeg:https://d2iou6x4qarbh6.cloudfront.net/wp-content/uploads/2026/02/27095822/Camellia-Days.jpg
END:VEVENT
END:VCALENDAR