BEGIN:VCALENDAR
VERSION:2.0
PRODID:-//Waltham Times - ECPv6.15.12.2//NONSGML v1.0//EN
CALSCALE:GREGORIAN
METHOD:PUBLISH
X-ORIGINAL-URL:https://walthamtimes.org
X-WR-CALDESC:Events for Waltham Times
REFRESH-INTERVAL;VALUE=DURATION:PT1H
X-Robots-Tag:noindex
X-PUBLISHED-TTL:PT1H
BEGIN:VTIMEZONE
TZID:America/New_York
BEGIN:DAYLIGHT
TZOFFSETFROM:-0500
TZOFFSETTO:-0400
TZNAME:EDT
DTSTART:20250309T070000
END:DAYLIGHT
BEGIN:STANDARD
TZOFFSETFROM:-0400
TZOFFSETTO:-0500
TZNAME:EST
DTSTART:20251102T060000
END:STANDARD
BEGIN:DAYLIGHT
TZOFFSETFROM:-0500
TZOFFSETTO:-0400
TZNAME:EDT
DTSTART:20260308T070000
END:DAYLIGHT
BEGIN:STANDARD
TZOFFSETFROM:-0400
TZOFFSETTO:-0500
TZNAME:EST
DTSTART:20261101T060000
END:STANDARD
BEGIN:DAYLIGHT
TZOFFSETFROM:-0500
TZOFFSETTO:-0400
TZNAME:EDT
DTSTART:20270314T070000
END:DAYLIGHT
BEGIN:STANDARD
TZOFFSETFROM:-0400
TZOFFSETTO:-0500
TZNAME:EST
DTSTART:20271107T060000
END:STANDARD
END:VTIMEZONE
BEGIN:VEVENT
DTSTART;TZID=America/New_York:20260426T090000
DTEND;TZID=America/New_York:20260426T100000
DTSTAMP:20260422T230506
CREATED:20260419T170525Z
LAST-MODIFIED:20260422T170501Z
UID:10002733-1777194000-1777197600@walthamtimes.org
SUMMARY:Café Meet and Mingle: Bi+ community edition
DESCRIPTION:Hoping to connect with other bi+ people over coffee and conversation? \nJoin Friends Beyond Boston-Waltham Social (20s-40s) for a relaxed and friendly coffee social in Waltham. This edition of our popular series is for anyone who identifies under the Bi+ umbrella—including bisexual\, pansexual\, fluid\, queer-identified\, unlabeled\, questioning\, and anyone who experiences attraction to more than one gender (M-spec identities) and is for anyone looking to connect in community with others who get it. We’ll gather for casual conversation\, friendship\, and connection in a cozy\, community-oriented environment. Show up as you are\, this event is about warmth\, belonging\, and meeting others who truly understand the Bi+ experience. \nPlease support the café by making a purchase\, as we are using their space and their staff is awesome. \nRSVP Policy: This is a private event for members of this Meetup/Heylo group who RSVP in advance. For safety and group flow\, walk-ins and guests not on the RSVP list cannot join. We love meeting new people\, just be sure to RSVP ahead of time so we know you’re coming. \nLearn more about our Friends Beyond Boston community on our website.
URL:https://walthamtimes.org/event/cafe-meet-and-mingle-bi-community-edition-2/
LOCATION:Cafe On The Common\, Waltham\, 02453
CATEGORIES:Social events
ORGANIZER;CN="Friends Beyond Boston - Waltham Social 20%E2%80%99s to 40%E2%80%99s":MAILTO:friendsbeyondboston@proton.me
END:VEVENT
END:VCALENDAR