BEGIN:VCALENDAR
VERSION:2.0
PRODID:-//Waltham Times - ECPv6.15.12.2//NONSGML v1.0//EN
CALSCALE:GREGORIAN
METHOD:PUBLISH
X-ORIGINAL-URL:https://walthamtimes.org
X-WR-CALDESC:Events for Waltham Times
REFRESH-INTERVAL;VALUE=DURATION:PT1H
X-Robots-Tag:noindex
X-PUBLISHED-TTL:PT1H
BEGIN:VTIMEZONE
TZID:America/New_York
BEGIN:DAYLIGHT
TZOFFSETFROM:-0500
TZOFFSETTO:-0400
TZNAME:EDT
DTSTART:20240310T070000
END:DAYLIGHT
BEGIN:STANDARD
TZOFFSETFROM:-0400
TZOFFSETTO:-0500
TZNAME:EST
DTSTART:20241103T060000
END:STANDARD
BEGIN:DAYLIGHT
TZOFFSETFROM:-0500
TZOFFSETTO:-0400
TZNAME:EDT
DTSTART:20250309T070000
END:DAYLIGHT
BEGIN:STANDARD
TZOFFSETFROM:-0400
TZOFFSETTO:-0500
TZNAME:EST
DTSTART:20251102T060000
END:STANDARD
BEGIN:DAYLIGHT
TZOFFSETFROM:-0500
TZOFFSETTO:-0400
TZNAME:EDT
DTSTART:20260308T070000
END:DAYLIGHT
BEGIN:STANDARD
TZOFFSETFROM:-0400
TZOFFSETTO:-0500
TZNAME:EST
DTSTART:20261101T060000
END:STANDARD
END:VTIMEZONE
BEGIN:VEVENT
DTSTART;TZID=America/New_York:20250411T093000
DTEND;TZID=America/New_York:20250411T160000
DTSTAMP:20260419T105400
CREATED:20250409T161119Z
LAST-MODIFIED:20250409T161119Z
UID:10000656-1744363800-1744387200@walthamtimes.org
SUMMARY:Spring orchid sale at the historic Lyman Estate greenhouse
DESCRIPTION:Join us for our annual spring orchid sale at the historic Lyman Estate greenhouse. Hundreds of budded and blooming orchids available to purchase. Both species and hybrids\, miniatures and full sized plants for every condition. Large selection. Hard to find varieties. Event runs Friday to Sunday. \nFor more information.
URL:https://walthamtimes.org/event/spring-orchid-sale-at-the-historic-lyman-estate-greenhouse/2025-04-11/
LOCATION:Lyman Estate Greenhouse\, 185 Lyman Street\, Waltham\, MA\, 02452\, United States
CATEGORIES:Food and agriculture,Public interest
END:VEVENT
BEGIN:VEVENT
DTSTART;TZID=America/New_York:20250412T093000
DTEND;TZID=America/New_York:20250412T160000
DTSTAMP:20260419T105400
CREATED:20250409T161119Z
LAST-MODIFIED:20250409T161119Z
UID:10000657-1744450200-1744473600@walthamtimes.org
SUMMARY:Spring orchid sale at the historic Lyman Estate greenhouse
DESCRIPTION:Join us for our annual spring orchid sale at the historic Lyman Estate greenhouse. Hundreds of budded and blooming orchids available to purchase. Both species and hybrids\, miniatures and full sized plants for every condition. Large selection. Hard to find varieties. Event runs Friday to Sunday. \nFor more information.
URL:https://walthamtimes.org/event/spring-orchid-sale-at-the-historic-lyman-estate-greenhouse/2025-04-12/
LOCATION:Lyman Estate Greenhouse\, 185 Lyman Street\, Waltham\, MA\, 02452\, United States
CATEGORIES:Food and agriculture,Public interest
END:VEVENT
BEGIN:VEVENT
DTSTART;TZID=America/New_York:20250413T093000
DTEND;TZID=America/New_York:20250413T160000
DTSTAMP:20260419T105400
CREATED:20250409T161119Z
LAST-MODIFIED:20250409T161119Z
UID:10000658-1744536600-1744560000@walthamtimes.org
SUMMARY:Spring orchid sale at the historic Lyman Estate greenhouse
DESCRIPTION:Join us for our annual spring orchid sale at the historic Lyman Estate greenhouse. Hundreds of budded and blooming orchids available to purchase. Both species and hybrids\, miniatures and full sized plants for every condition. Large selection. Hard to find varieties. Event runs Friday to Sunday. \nFor more information.
URL:https://walthamtimes.org/event/spring-orchid-sale-at-the-historic-lyman-estate-greenhouse/2025-04-13/
LOCATION:Lyman Estate Greenhouse\, 185 Lyman Street\, Waltham\, MA\, 02452\, United States
CATEGORIES:Food and agriculture,Public interest
END:VEVENT
END:VCALENDAR