BEGIN:VCALENDAR
VERSION:2.0
PRODID:-//Waltham Times - ECPv6.15.12.2//NONSGML v1.0//EN
CALSCALE:GREGORIAN
METHOD:PUBLISH
X-ORIGINAL-URL:https://walthamtimes.org
X-WR-CALDESC:Events for Waltham Times
REFRESH-INTERVAL;VALUE=DURATION:PT1H
X-Robots-Tag:noindex
X-PUBLISHED-TTL:PT1H
BEGIN:VTIMEZONE
TZID:America/New_York
BEGIN:DAYLIGHT
TZOFFSETFROM:-0500
TZOFFSETTO:-0400
TZNAME:EDT
DTSTART:20240310T070000
END:DAYLIGHT
BEGIN:STANDARD
TZOFFSETFROM:-0400
TZOFFSETTO:-0500
TZNAME:EST
DTSTART:20241103T060000
END:STANDARD
BEGIN:DAYLIGHT
TZOFFSETFROM:-0500
TZOFFSETTO:-0400
TZNAME:EDT
DTSTART:20250309T070000
END:DAYLIGHT
BEGIN:STANDARD
TZOFFSETFROM:-0400
TZOFFSETTO:-0500
TZNAME:EST
DTSTART:20251102T060000
END:STANDARD
BEGIN:DAYLIGHT
TZOFFSETFROM:-0500
TZOFFSETTO:-0400
TZNAME:EDT
DTSTART:20260308T070000
END:DAYLIGHT
BEGIN:STANDARD
TZOFFSETFROM:-0400
TZOFFSETTO:-0500
TZNAME:EST
DTSTART:20261101T060000
END:STANDARD
END:VTIMEZONE
BEGIN:VEVENT
DTSTART;TZID=America/New_York:20251111T100000
DTEND;TZID=America/New_York:20251111T103000
DTSTAMP:20260419T155944
CREATED:20251106T015357Z
LAST-MODIFIED:20251110T171240Z
UID:10001775-1762855200-1762857000@walthamtimes.org
SUMMARY:Tribute to Samuel M. Shriberg
DESCRIPTION:UPDATE: The correct time for this event is 10:00 a.m.\, not 9:30 as previously posted. \nThere will be a tribute to honor Samuel M. Shriberg\, the founder of Support our Servicemen\, a group of city councilors and other residents who baked cookies\, sent holiday gifts and\, with local schoolchildren\, sent servicemen letters\, drawings and a newsletter of local happenings during the Vietnam era and beyond. This short ceremony will be at 10:00 a.m. on the Waltham Common\, previous to the city ceremony at 11 a.m.
URL:https://walthamtimes.org/event/tribute-to-samuel-m-shriberg/
LOCATION:Waltham Common\, 610 Main St\, Waltham\, MA\, 02452\, United States
CATEGORIES:History,Holiday celebrations,Public interest
END:VEVENT
END:VCALENDAR