BEGIN:VCALENDAR
VERSION:2.0
PRODID:-//Waltham Times - ECPv6.15.12.2//NONSGML v1.0//EN
CALSCALE:GREGORIAN
METHOD:PUBLISH
X-WR-CALNAME:Waltham Times
X-ORIGINAL-URL:https://walthamtimes.org
X-WR-CALDESC:Events for Waltham Times
REFRESH-INTERVAL;VALUE=DURATION:PT1H
X-Robots-Tag:noindex
X-PUBLISHED-TTL:PT1H
BEGIN:VTIMEZONE
TZID:America/New_York
BEGIN:DAYLIGHT
TZOFFSETFROM:-0500
TZOFFSETTO:-0400
TZNAME:EDT
DTSTART:20240310T070000
END:DAYLIGHT
BEGIN:STANDARD
TZOFFSETFROM:-0400
TZOFFSETTO:-0500
TZNAME:EST
DTSTART:20241103T060000
END:STANDARD
BEGIN:DAYLIGHT
TZOFFSETFROM:-0500
TZOFFSETTO:-0400
TZNAME:EDT
DTSTART:20250309T070000
END:DAYLIGHT
BEGIN:STANDARD
TZOFFSETFROM:-0400
TZOFFSETTO:-0500
TZNAME:EST
DTSTART:20251102T060000
END:STANDARD
BEGIN:DAYLIGHT
TZOFFSETFROM:-0500
TZOFFSETTO:-0400
TZNAME:EDT
DTSTART:20260308T070000
END:DAYLIGHT
BEGIN:STANDARD
TZOFFSETFROM:-0400
TZOFFSETTO:-0500
TZNAME:EST
DTSTART:20261101T060000
END:STANDARD
END:VTIMEZONE
BEGIN:VEVENT
DTSTART;VALUE=DATE:20251005
DTEND;VALUE=DATE:20251007
DTSTAMP:20260424T050127
CREATED:20250928T023606Z
LAST-MODIFIED:20250928T023606Z
UID:10001178-1759629600-1759715999@walthamtimes.org
SUMMARY:Join the Waltham Fields Community Farm "Ride for Food" team
DESCRIPTION:You are invited to join our Ride for Food team as a biker or walker on October 5\, or as a virtual participant. Together\, we can have great fun as we help feed our hungry neighbors and provide vital financial support for WFCF’s amazing food access programs\, like our Mobile Outreach Market. \nEvery mile we ride or walk will get us closer to ensuring that no one in our community has to go hungry. \nThe team is here to provide advice and support\, you won’t have to go it alone. If you’re interested\, and would like to learn more\, please reach out for a noncommittal chat. We’d love to have you on Team WFCF!
URL:https://walthamtimes.org/event/join-the-waltham-fields-community-farm-ride-for-food-team/
LOCATION:Waltham Fields Community Farm\, 240 Beaver St\, Waltham\, MA\, 02452\, United States
CATEGORIES:Gardening,Health and fitness,Public interest
END:VEVENT
END:VCALENDAR