BEGIN:VCALENDAR
VERSION:2.0
PRODID:-//Waltham Times - ECPv6.15.12.2//NONSGML v1.0//EN
CALSCALE:GREGORIAN
METHOD:PUBLISH
X-ORIGINAL-URL:https://walthamtimes.org
X-WR-CALDESC:Events for Waltham Times
REFRESH-INTERVAL;VALUE=DURATION:PT1H
X-Robots-Tag:noindex
X-PUBLISHED-TTL:PT1H
BEGIN:VTIMEZONE
TZID:America/New_York
BEGIN:DAYLIGHT
TZOFFSETFROM:-0500
TZOFFSETTO:-0400
TZNAME:EDT
DTSTART:20250309T070000
END:DAYLIGHT
BEGIN:STANDARD
TZOFFSETFROM:-0400
TZOFFSETTO:-0500
TZNAME:EST
DTSTART:20251102T060000
END:STANDARD
BEGIN:DAYLIGHT
TZOFFSETFROM:-0500
TZOFFSETTO:-0400
TZNAME:EDT
DTSTART:20260308T070000
END:DAYLIGHT
BEGIN:STANDARD
TZOFFSETFROM:-0400
TZOFFSETTO:-0500
TZNAME:EST
DTSTART:20261101T060000
END:STANDARD
BEGIN:DAYLIGHT
TZOFFSETFROM:-0500
TZOFFSETTO:-0400
TZNAME:EDT
DTSTART:20270314T070000
END:DAYLIGHT
BEGIN:STANDARD
TZOFFSETFROM:-0400
TZOFFSETTO:-0500
TZNAME:EST
DTSTART:20271107T060000
END:STANDARD
END:VTIMEZONE
BEGIN:VEVENT
DTSTART;TZID=America/New_York:20260326T200000
DTEND;TZID=America/New_York:20260326T213000
DTSTAMP:20260422T104624
CREATED:20260316T015532Z
LAST-MODIFIED:20260316T015532Z
UID:10002535-1774555200-1774560600@walthamtimes.org
SUMMARY:2nd Shift Concert: Rachel Sumner & Traveling Light
DESCRIPTION:Rachel Sumner & Traveling Light are a Boston-based string band making music that blends folk tradition with feminist storytelling\, poetic detail\, and just enough grit. At the center is Sumner’s songwriting—rooted in history\, myth\, and personal reckoning—carried by close harmonies\, upright bass\, acoustic guitar\, and fiddle. The trio features Kat Wallace on fiddle and vocals and Mike Siegel on upright bass and vocals\, whose playing brings both tension and tenderness to the sound. \nTheir sound is spare and intimate\, sometimes eerie\, sometimes sweet\, always intentional. They call it Femericana—sharp-edged Americana with a splash of feminine rage. \nVisit CRMII for more details and to order tickets.
URL:https://walthamtimes.org/event/2nd-shift-concert-rachel-sumner-traveling-light/
LOCATION:Charles River Museum of Industry & Innovation\, 154 Moody Street\, Waltham\, 02453\, United States
CATEGORIES:Musical performances
END:VEVENT
END:VCALENDAR