BEGIN:VCALENDAR
VERSION:2.0
PRODID:-//Waltham Times - ECPv6.15.12.2//NONSGML v1.0//EN
CALSCALE:GREGORIAN
METHOD:PUBLISH
X-WR-CALNAME:Waltham Times
X-ORIGINAL-URL:https://walthamtimes.org
X-WR-CALDESC:Events for Waltham Times
REFRESH-INTERVAL;VALUE=DURATION:PT1H
X-Robots-Tag:noindex
X-PUBLISHED-TTL:PT1H
BEGIN:VTIMEZONE
TZID:America/New_York
BEGIN:DAYLIGHT
TZOFFSETFROM:-0500
TZOFFSETTO:-0400
TZNAME:EDT
DTSTART:20250309T070000
END:DAYLIGHT
BEGIN:STANDARD
TZOFFSETFROM:-0400
TZOFFSETTO:-0500
TZNAME:EST
DTSTART:20251102T060000
END:STANDARD
BEGIN:DAYLIGHT
TZOFFSETFROM:-0500
TZOFFSETTO:-0400
TZNAME:EDT
DTSTART:20260308T070000
END:DAYLIGHT
BEGIN:STANDARD
TZOFFSETFROM:-0400
TZOFFSETTO:-0500
TZNAME:EST
DTSTART:20261101T060000
END:STANDARD
BEGIN:DAYLIGHT
TZOFFSETFROM:-0500
TZOFFSETTO:-0400
TZNAME:EDT
DTSTART:20270314T070000
END:DAYLIGHT
BEGIN:STANDARD
TZOFFSETFROM:-0400
TZOFFSETTO:-0500
TZNAME:EST
DTSTART:20271107T060000
END:STANDARD
END:VTIMEZONE
BEGIN:VEVENT
DTSTART;TZID=America/New_York:20260326T190000
DTEND;TZID=America/New_York:20260326T213000
DTSTAMP:20260425T180907
CREATED:20260208T220750Z
LAST-MODIFIED:20260223T171512Z
UID:10002384-1774551600-1774560600@walthamtimes.org
SUMMARY:Waltham Friends of Scouting—Trivia Night FUNdraiser
DESCRIPTION:Waltham Friends of Scouting will host a Trivia Night on Thursday\, March 26\, at the Watertown Sons of Italy Hall. (Doors open at 6:30 p.m.) \nThere will be two one-hour games professionally run by Sporcle Events. Prizes will be awarded for each game winner and the overall winner\, as well as raffles and a cash bar. \nTickets are $25 per person with a maximum team size of 8 people. Purchase a table of 8 for only $150.\nPurchase tickets securely through Give Lively.
URL:https://walthamtimes.org/event/waltham-friends-of-scouting-trivia-night-fundraiser/
LOCATION:Watertown Sons of Italy Hall\, 520 Pleasant Street\, Watertown\, MA
CATEGORIES:Fund raisers
ATTACH;FMTTYPE=image/jpeg:https://d2iou6x4qarbh6.cloudfront.net/wp-content/uploads/2026/02/08170754/Trivia-Night-Logo-2026-FB.jpg
END:VEVENT
END:VCALENDAR