BEGIN:VCALENDAR
VERSION:2.0
PRODID:-//Waltham Times - ECPv6.15.12.2//NONSGML v1.0//EN
CALSCALE:GREGORIAN
METHOD:PUBLISH
X-WR-CALNAME:Waltham Times
X-ORIGINAL-URL:https://walthamtimes.org
X-WR-CALDESC:Events for Waltham Times
REFRESH-INTERVAL;VALUE=DURATION:PT1H
X-Robots-Tag:noindex
X-PUBLISHED-TTL:PT1H
BEGIN:VTIMEZONE
TZID:America/New_York
BEGIN:DAYLIGHT
TZOFFSETFROM:-0500
TZOFFSETTO:-0400
TZNAME:EDT
DTSTART:20240310T070000
END:DAYLIGHT
BEGIN:STANDARD
TZOFFSETFROM:-0400
TZOFFSETTO:-0500
TZNAME:EST
DTSTART:20241103T060000
END:STANDARD
BEGIN:DAYLIGHT
TZOFFSETFROM:-0500
TZOFFSETTO:-0400
TZNAME:EDT
DTSTART:20250309T070000
END:DAYLIGHT
BEGIN:STANDARD
TZOFFSETFROM:-0400
TZOFFSETTO:-0500
TZNAME:EST
DTSTART:20251102T060000
END:STANDARD
BEGIN:DAYLIGHT
TZOFFSETFROM:-0500
TZOFFSETTO:-0400
TZNAME:EDT
DTSTART:20260308T070000
END:DAYLIGHT
BEGIN:STANDARD
TZOFFSETFROM:-0400
TZOFFSETTO:-0500
TZNAME:EST
DTSTART:20261101T060000
END:STANDARD
END:VTIMEZONE
BEGIN:VEVENT
DTSTART;TZID=America/New_York:20250306T190000
DTEND;TZID=America/New_York:20250306T203000
DTSTAMP:20260423T094930
CREATED:20250226T193951Z
LAST-MODIFIED:20250301T204002Z
UID:10000417-1741287600-1741293000@walthamtimes.org
SUMMARY:"Green Burial: The Earth-friendly option" (Zoom)
DESCRIPTION:Find out about green burial\, a natural alternative to traditional burial\, in a presentation with the leadership of Green Burial Massachusetts\, sponsored by the Waltham Land Trust. What is green burial? Is it legal? (Yes\, it’s legal in Massachusetts\, but check the bylaws for your local cemetery.) How does green burial compare with conventional burial? What other alternatives to green burial are available in Massachusetts? How do costs compare? Tune in to learn if green burial is the right choice for you. \nRegister for the link.
URL:https://walthamtimes.org/event/green-burial-the-earth-friendly-option-zoom/
LOCATION:Zoom
CATEGORIES:Food and agriculture|City government>Parks & Rec,Public interest
ATTACH;FMTTYPE=image/jpeg:https://walthamtimes.org/wp-content/uploads/2025/02/20220302_news_gbc.jpg
END:VEVENT
BEGIN:VEVENT
DTSTART;TZID=America/New_York:20250318T190000
DTEND;TZID=America/New_York:20250318T200000
DTSTAMP:20260423T094930
CREATED:20250310T032345Z
LAST-MODIFIED:20250310T032345Z
UID:10000468-1742324400-1742328000@walthamtimes.org
SUMMARY:Save Waltham Wildlife: Approaching folks about rodent control
DESCRIPTION:Join Save Waltham Wildlife for an interactive virtual workshop that will transform you into an effective advocate for wildlife-friendly rodent control in your community! \nWhat you’ll learn: \n\nProven conversation starters that turn potential confrontations into productive discussions\nPersuasive techniques for approaching skeptical neighbors\, businesses\, and property owners\nHow to present compelling wildlife protection information to busy city officials\nReady-to-use resource guides on effective rodenticide alternatives\nInstead of uncomfortable confrontations\, you’ll master the art of friendly\, informative conversations that inspire action.\n\nOur expert facilitators will share real success stories and provide personalized feedback through interactive role-playing scenarios. \nEvery raccoon\, hawk\, owl\, and outdoor pet in Waltham deserves protection from harmful rodenticides. Your voice can make the difference. Learn how to use it effectively! \nRegister here to secure your spot in building a safer Waltham for all creatures.
URL:https://walthamtimes.org/event/save-waltham-wildlife-approaching-folks-about-rodent-control/
LOCATION:Zoom
CATEGORIES:Food and agriculture,Public interest
END:VEVENT
END:VCALENDAR