BEGIN:VCALENDAR
VERSION:2.0
PRODID:-//Waltham Times - ECPv6.15.12.2//NONSGML v1.0//EN
CALSCALE:GREGORIAN
METHOD:PUBLISH
X-ORIGINAL-URL:https://walthamtimes.org
X-WR-CALDESC:Events for Waltham Times
REFRESH-INTERVAL;VALUE=DURATION:PT1H
X-Robots-Tag:noindex
X-PUBLISHED-TTL:PT1H
BEGIN:VTIMEZONE
TZID:America/New_York
BEGIN:DAYLIGHT
TZOFFSETFROM:-0500
TZOFFSETTO:-0400
TZNAME:EDT
DTSTART:20240310T070000
END:DAYLIGHT
BEGIN:STANDARD
TZOFFSETFROM:-0400
TZOFFSETTO:-0500
TZNAME:EST
DTSTART:20241103T060000
END:STANDARD
BEGIN:DAYLIGHT
TZOFFSETFROM:-0500
TZOFFSETTO:-0400
TZNAME:EDT
DTSTART:20250309T070000
END:DAYLIGHT
BEGIN:STANDARD
TZOFFSETFROM:-0400
TZOFFSETTO:-0500
TZNAME:EST
DTSTART:20251102T060000
END:STANDARD
BEGIN:DAYLIGHT
TZOFFSETFROM:-0500
TZOFFSETTO:-0400
TZNAME:EDT
DTSTART:20260308T070000
END:DAYLIGHT
BEGIN:STANDARD
TZOFFSETFROM:-0400
TZOFFSETTO:-0500
TZNAME:EST
DTSTART:20261101T060000
END:STANDARD
END:VTIMEZONE
BEGIN:VEVENT
DTSTART;TZID=America/New_York:20250429T183000
DTEND;TZID=America/New_York:20250429T193000
DTSTAMP:20260421T170858
CREATED:20250416T022601Z
LAST-MODIFIED:20250424T021226Z
UID:10000677-1745951400-1745955000@walthamtimes.org
SUMMARY:Land Trust fundraiser at Shiva Shakti
DESCRIPTION:Join us for a night of restorative and gentle yoga for all levels to benefit the Waltham Land Trust\, hosted by Shiva Shakti\, located above the WLT office on Common Street. From beginners to experienced practitioners\, all are welcome! This is an “unwind the nervous system” class that takes off the rush and demands of keeping up with the demands of city living. Nature themes\, plus calming music and forms\, will be included. Optional visit to the WLT office downstairs afterwards. Tickets are $20 for current dues-paying members\, $25 for non-WLT members. Register online through walthamlandtrust.org or bring cash or check made out to the Waltham Land Trust that evening.
URL:https://walthamtimes.org/event/land-trust-fundraiser-at-shiva-shakti/
LOCATION:Shiva Shakti\, 8 Common Street\, Waltham\, MA
CATEGORIES:Public interest
END:VEVENT
END:VCALENDAR