BEGIN:VCALENDAR
VERSION:2.0
PRODID:-//Waltham Times - ECPv6.15.12.2//NONSGML v1.0//EN
CALSCALE:GREGORIAN
METHOD:PUBLISH
X-WR-CALNAME:Waltham Times
X-ORIGINAL-URL:https://walthamtimes.org
X-WR-CALDESC:Events for Waltham Times
REFRESH-INTERVAL;VALUE=DURATION:PT1H
X-Robots-Tag:noindex
X-PUBLISHED-TTL:PT1H
BEGIN:VTIMEZONE
TZID:America/New_York
BEGIN:DAYLIGHT
TZOFFSETFROM:-0500
TZOFFSETTO:-0400
TZNAME:EDT
DTSTART:20250309T070000
END:DAYLIGHT
BEGIN:STANDARD
TZOFFSETFROM:-0400
TZOFFSETTO:-0500
TZNAME:EST
DTSTART:20251102T060000
END:STANDARD
BEGIN:DAYLIGHT
TZOFFSETFROM:-0500
TZOFFSETTO:-0400
TZNAME:EDT
DTSTART:20260308T070000
END:DAYLIGHT
BEGIN:STANDARD
TZOFFSETFROM:-0400
TZOFFSETTO:-0500
TZNAME:EST
DTSTART:20261101T060000
END:STANDARD
BEGIN:DAYLIGHT
TZOFFSETFROM:-0500
TZOFFSETTO:-0400
TZNAME:EDT
DTSTART:20270314T070000
END:DAYLIGHT
BEGIN:STANDARD
TZOFFSETFROM:-0400
TZOFFSETTO:-0500
TZNAME:EST
DTSTART:20271107T060000
END:STANDARD
END:VTIMEZONE
BEGIN:VEVENT
DTSTART;TZID=America/New_York:20260428T183000
DTEND;TZID=America/New_York:20260428T200000
DTSTAMP:20260424T180856
CREATED:20260422T015632Z
LAST-MODIFIED:20260422T015632Z
UID:10002706-1777401000-1777406400@walthamtimes.org
SUMMARY:Pizza and 'The Choice' with RCWaltham
DESCRIPTION:“The Choice” is a 25-minute documentary about ranked choice voting that follows the journey of two everyday people in their election campaigns for Portland city council: one\, an educator and community organizer; the other\, a police officer. Join us in person to celebrate spring with socializing\, pizza and a short movie\, and a discussion about the Portland experience and what Waltham voters can learn from it.
URL:https://walthamtimes.org/event/pizza-and-the-choice-with-rcwaltham/
LOCATION:First Parish Church\, 50 Church St\, Waltham\, MA
CATEGORIES:Arts & culture,Campaign Event,Public interest
ATTACH;FMTTYPE=image/png:https://d2iou6x4qarbh6.cloudfront.net/wp-content/uploads/2026/04/21215340/the-choice-pizza.png
ORGANIZER;CN="Ranked Choice Waltham":MAILTO:info@walthamrcv.org
END:VEVENT
END:VCALENDAR