BEGIN:VCALENDAR
VERSION:2.0
PRODID:-//Waltham Times - ECPv6.15.12.2//NONSGML v1.0//EN
CALSCALE:GREGORIAN
METHOD:PUBLISH
X-ORIGINAL-URL:https://walthamtimes.org
X-WR-CALDESC:Events for Waltham Times
REFRESH-INTERVAL;VALUE=DURATION:PT1H
X-Robots-Tag:noindex
X-PUBLISHED-TTL:PT1H
BEGIN:VTIMEZONE
TZID:America/New_York
BEGIN:DAYLIGHT
TZOFFSETFROM:-0500
TZOFFSETTO:-0400
TZNAME:EDT
DTSTART:20250309T070000
END:DAYLIGHT
BEGIN:STANDARD
TZOFFSETFROM:-0400
TZOFFSETTO:-0500
TZNAME:EST
DTSTART:20251102T060000
END:STANDARD
BEGIN:DAYLIGHT
TZOFFSETFROM:-0500
TZOFFSETTO:-0400
TZNAME:EDT
DTSTART:20260308T070000
END:DAYLIGHT
BEGIN:STANDARD
TZOFFSETFROM:-0400
TZOFFSETTO:-0500
TZNAME:EST
DTSTART:20261101T060000
END:STANDARD
BEGIN:DAYLIGHT
TZOFFSETFROM:-0500
TZOFFSETTO:-0400
TZNAME:EDT
DTSTART:20270314T070000
END:DAYLIGHT
BEGIN:STANDARD
TZOFFSETFROM:-0400
TZOFFSETTO:-0500
TZNAME:EST
DTSTART:20271107T060000
END:STANDARD
END:VTIMEZONE
BEGIN:VEVENT
DTSTART;TZID=America/New_York:20260307T133000
DTEND;TZID=America/New_York:20260307T150000
DTSTAMP:20260422T092820
CREATED:20260216T152033Z
LAST-MODIFIED:20260223T181703Z
UID:10002408-1772890200-1772895600@walthamtimes.org
SUMMARY:Evolution of the Game of Baseball in the 19th Century
DESCRIPTION:Join us as we continue our Social Series with “Evolution of the Game of Baseball in the 19th Century” with baseball historian Brian Sheehy\, the History Department Coordinator at North Andover High School and an award-winning educator. \nDid you know the original home plate was circular? Did you know the National League that we know today was formed in 1876? This talk examines how baseball evolved from an amateur game played for fun and recreation to a professional sport played for money and profit. \nSeats are limited\, so signup by calling 781-893-9020 or emailing with with your name\, phone number\, and the number of participants. \nThis program is supported in part by a grant from the Waltham Cultural Council\, a local agency funded by Mass Cultural Council\, a state agency.
URL:https://walthamtimes.org/event/evolution-of-the-game-of-baseball-in-the-19th-century/
LOCATION:The Waltham Museum\, 25 Lexington Street\, Waltham\, MA
CATEGORIES:History
ATTACH;FMTTYPE=image/jpeg:https://d2iou6x4qarbh6.cloudfront.net/wp-content/uploads/2026/02/16102039/Vintage-Baseball.jpg
END:VEVENT
BEGIN:VEVENT
DTSTART;TZID=America/New_York:20260308T133000
DTEND;TZID=America/New_York:20260308T150000
DTSTAMP:20260422T092820
CREATED:20260216T152544Z
LAST-MODIFIED:20260223T205847Z
UID:10002409-1772976600-1772982000@walthamtimes.org
SUMMARY:Traditional Folk and Celtic Duo: Bob and Jen Strom with Emily Peterson on concertina
DESCRIPTION:Join us as we continue our Social Series with Traditional Folk and Celtic Duo: Bob and Jen Strom with Emily Peterson on concertina. \nBob and Jen will sing a blend of American folk songs and Irish ballads along with Irish fiddle tunes and will be joined by local favorite and Beverly resident\, Emily Peterson\, on concertina. \nSeats are limited\, so signup by calling 781-893-9020 or emailing with your name\, phone number\, and the number of participants. \nThis program is supported in part by a grant from the Waltham Cultural Council\, a local agency funded by Mass Cultural Council\, a state agency.
URL:https://walthamtimes.org/event/traditional-folk-and-celtic-duo-bob-and-jen-strom-with-emily-peterson-on-concertina/
LOCATION:The Waltham Museum\, 25 Lexington Street\, Waltham\, MA
CATEGORIES:Musical performances
ATTACH;FMTTYPE=image/jpeg:https://d2iou6x4qarbh6.cloudfront.net/wp-content/uploads/2026/02/16102548/Bob-and-Jen-at-Celtic-Candlelight2.jpg
END:VEVENT
BEGIN:VEVENT
DTSTART;TZID=America/New_York:20260316T190000
DTEND;TZID=America/New_York:20260316T210000
DTSTAMP:20260422T092820
CREATED:20260301T212509Z
LAST-MODIFIED:20260301T212819Z
UID:10002450-1773687600-1773694800@walthamtimes.org
SUMMARY:Watch City Ukers Every Month at the Waltham Museum
DESCRIPTION:Hosted by Marisa and Malissa every third Monday at the Waltham Museum\, the Watch City Ukers #207 provide a relaxed atmosphere where any level is welcome. We are thrilled to share our newly revised Watch City Ukers Songbook with you. It’s packed with fresh favorites we think you’ll love whether you’re a beginner or seasoned player. Our next set from the songbook will kick off with “Count On Me.” Come share your love of music\, learn new skills\, pick up tips and tricks\, and make new friends who speak fluent ukulele. \nIf you don’t have a ukulele you can borrow one at a local library or email mcacci@gmail.com to borrow one for the evening. Or\, if you don’t play\, come just come to listen and sing along. \n\n\nA $5 donation to the Waltham Museum is appreciated.
URL:https://walthamtimes.org/event/watch-city-ukers-every-month-at-the-waltham-museum/
LOCATION:The Waltham Museum\, 25 Lexington Street\, Waltham\, MA
CATEGORIES:Musical performances,Social events
ATTACH;FMTTYPE=image/jpeg:https://d2iou6x4qarbh6.cloudfront.net/wp-content/uploads/2026/02/24202901/event-flyer.jpg
ORGANIZER;CN="Watch City Ukers":MAILTO:mcacci@gmail.com
END:VEVENT
BEGIN:VEVENT
DTSTART;TZID=America/New_York:20260322T133000
DTEND;TZID=America/New_York:20260322T150000
DTSTAMP:20260422T092820
CREATED:20260301T130048Z
LAST-MODIFIED:20260308T205705Z
UID:10002470-1774186200-1774191600@walthamtimes.org
SUMMARY:More than Money: The world of coin collecting
DESCRIPTION:Join us as we continue our Social Series with “More than Money: The world of coin collecting” with Neil Musante\, a collector and numismatic researcher and author of two books that have become standard references on the subject\, with a third coming soon. \nThis talk will explore various aspects of collecting\, including some of the history leading to the coins of the present day. We will also discuss what makes some of them worth so much money and why two coins of the same denomination\, with the same date and mintmark\, can be so different in value from each other. It is essential to understand how coins are graded and how grade determines value. Most importantly\, there will be plenty of time for questions. \nSeats are limited. Sign up by calling 781-893-9020 or emailing with your name\, phone number\, and the number of participants. \nThis program is supported in part by a grant from the Waltham Cultural Council\, a local agency funded by Mass Cultural Council\, a state agency.
URL:https://walthamtimes.org/event/more-than-money-the-world-of-coin-collecting/
LOCATION:The Waltham Museum\, 25 Lexington Street\, Waltham\, MA
CATEGORIES:Arts & culture,History
ATTACH;FMTTYPE=image/jpeg:https://d2iou6x4qarbh6.cloudfront.net/wp-content/uploads/2026/03/01080053/Coin-Terminology.jpg
END:VEVENT
END:VCALENDAR