BEGIN:VCALENDAR
VERSION:2.0
PRODID:-//Waltham Times - ECPv6.15.12.2//NONSGML v1.0//EN
CALSCALE:GREGORIAN
METHOD:PUBLISH
X-WR-CALNAME:Waltham Times
X-ORIGINAL-URL:https://walthamtimes.org
X-WR-CALDESC:Events for Waltham Times
REFRESH-INTERVAL;VALUE=DURATION:PT1H
X-Robots-Tag:noindex
X-PUBLISHED-TTL:PT1H
BEGIN:VTIMEZONE
TZID:America/New_York
BEGIN:DAYLIGHT
TZOFFSETFROM:-0500
TZOFFSETTO:-0400
TZNAME:EDT
DTSTART:20230312T070000
END:DAYLIGHT
BEGIN:STANDARD
TZOFFSETFROM:-0400
TZOFFSETTO:-0500
TZNAME:EST
DTSTART:20231105T060000
END:STANDARD
BEGIN:DAYLIGHT
TZOFFSETFROM:-0500
TZOFFSETTO:-0400
TZNAME:EDT
DTSTART:20240310T070000
END:DAYLIGHT
BEGIN:STANDARD
TZOFFSETFROM:-0400
TZOFFSETTO:-0500
TZNAME:EST
DTSTART:20241103T060000
END:STANDARD
BEGIN:DAYLIGHT
TZOFFSETFROM:-0500
TZOFFSETTO:-0400
TZNAME:EDT
DTSTART:20250309T070000
END:DAYLIGHT
BEGIN:STANDARD
TZOFFSETFROM:-0400
TZOFFSETTO:-0500
TZNAME:EST
DTSTART:20251102T060000
END:STANDARD
BEGIN:DAYLIGHT
TZOFFSETFROM:-0500
TZOFFSETTO:-0400
TZNAME:EDT
DTSTART:20260308T070000
END:DAYLIGHT
BEGIN:STANDARD
TZOFFSETFROM:-0400
TZOFFSETTO:-0500
TZNAME:EST
DTSTART:20261101T060000
END:STANDARD
BEGIN:DAYLIGHT
TZOFFSETFROM:-0500
TZOFFSETTO:-0400
TZNAME:EDT
DTSTART:20270314T070000
END:DAYLIGHT
BEGIN:STANDARD
TZOFFSETFROM:-0400
TZOFFSETTO:-0500
TZNAME:EST
DTSTART:20271107T060000
END:STANDARD
END:VTIMEZONE
BEGIN:VEVENT
DTSTART;TZID=America/New_York:20260421T100000
DTEND;TZID=America/New_York:20260421T163000
DTSTAMP:20260424T221257
CREATED:20260310T165512Z
LAST-MODIFIED:20260310T165512Z
UID:10002501-1776765600-1776789000@walthamtimes.org
SUMMARY:Waltham Clothing Exchange now open on Tuesdays
DESCRIPTION:The Waltham Clothing Exchange (WCE) is now open for its spring season on Tuesdays only from 10 a.m. to 4:30 p.m. through May 12. \nWCE is a friendly thrift shop and consignment store serving the community for 67 years. It’s a lot more than clothing. We offer affordable clothing for all ages\, shoes\, dozens of handbags\, a variety of household goods\, glassware\, dinnerware\, small appliances\, countless books\, CDs\, DVDs\, toys\, games\, puzzles\, stuffed critters\, craft materials\, art pictures and picture frames\, and jewelry. It’s like a huge garage sale!
URL:https://walthamtimes.org/event/waltham-clothing-exchange-now-open-on-tuesdays-2/2026-04-21/
LOCATION:First Parish Church\, 50 Church St\, Waltham\, MA
CATEGORIES:Public interest
END:VEVENT
BEGIN:VEVENT
DTSTART;TZID=America/New_York:20260310T100000
DTEND;TZID=America/New_York:20260310T163000
DTSTAMP:20260424T221257
CREATED:20260310T005746Z
LAST-MODIFIED:20260310T005746Z
UID:10002494-1773136800-1773160200@walthamtimes.org
SUMMARY:Waltham Clothing Exchange now open on Tuesdays
DESCRIPTION:The Waltham Clothing Exchange (WCE) is now open for its spring season on Tuesdays only from 10 a.m. to 4:30 p.m. through May 12. \nWCE is a friendly thrift shop and consignment store serving the community for 67 years. It’s a lot more than clothing. We offer affordable clothing for all ages\, shoes\, dozens of handbags\, a variety of household goods\, glassware\, dinnerware\, small appliances\, countless books\, CDs\, DVDs\, toys\, games\, puzzles\, stuffed critters\, craft materials\, art pictures and picture frames\, and jewelry. It’s like a huge garage sale!
URL:https://walthamtimes.org/event/waltham-clothing-exchange-now-open-on-tuesdays/
LOCATION:First Parish Church\, 50 Church St\, Waltham\, MA
CATEGORIES:Public interest
END:VEVENT
BEGIN:VEVENT
DTSTART;TZID=America/New_York:20251216T100000
DTEND;TZID=America/New_York:20251216T163000
DTSTAMP:20260424T221257
CREATED:20251013T212848Z
LAST-MODIFIED:20251201T035412Z
UID:10001304-1765879200-1765902600@walthamtimes.org
SUMMARY:Waltham Clothing Exchange—open on Tuesdays!
DESCRIPTION:First Parish’s Waltham Clothing Exchange thrift shop has started it’s 68th year serving the greater Waltham community. The fall season runs until December 16\, open only on Tuesdays from 10:00 to 4:30. \nThere is plenty of good stuff: clothing for men\, women\, children and infants; toys\, games\, crafts\, housewares\, small appliances\, giftware\, linens\, lamps\, artwork\, jewelry\, shoes\, handbags\, accessories\, holiday items and more! Every week our consignors add to our ever-changing inventory. Help yourself to a bargain while helping to save the environment. \nSusan and Joel would welcome volunteer interest! You don’t have to help the whole day. Drop them a line or drop in to shop and talk! \nJoel & Susan Weddig\, Co-Directors (781) 330-0389.
URL:https://walthamtimes.org/event/waltham-clothing-exchange-open-on-tuesdays-6/2025-12-16/
LOCATION:Waltham Clothing Exchange Thrift Shop at First Parish\, 50 Church St\, Waltham\, 02451
CATEGORIES:Public interest
END:VEVENT
BEGIN:VEVENT
DTSTART;TZID=America/New_York:20251213T190000
DTEND;TZID=America/New_York:20251213T210000
DTSTAMP:20260424T221257
CREATED:20251129T005810Z
LAST-MODIFIED:20251129T005810Z
UID:10001838-1765652400-1765659600@walthamtimes.org
SUMMARY:Holiday concert with Harvey Reid and Joyce Andersen
DESCRIPTION:This concert will take you back to a New England Christmas from long ago for a unique evening of warm and brilliant holiday music. These acoustic music luminaries intertwine their voices with Reid’s guitars\, autoharp and mandolins and Andersen’s violin and viola for a program of instrumental and vocal arrangements of holiday and seasonal music old and new. \nTickets:  General admission $23\, students and seniors $18.
URL:https://walthamtimes.org/event/holiday-concert-with-harvey-reid-and-joyce-andersen/
LOCATION:First Parish Church\, 50 Church St\, Waltham\, MA
CATEGORIES:Musical performances
ATTACH;FMTTYPE=image/jpeg:https://d2iou6x4qarbh6.cloudfront.net/wp-content/uploads/2025/11/23201837/2025-Flyer-scaled-e1764322227484.jpg
END:VEVENT
BEGIN:VEVENT
DTSTART;TZID=America/New_York:20251026T103000
DTEND;TZID=America/New_York:20251026T133000
DTSTAMP:20260424T221257
CREATED:20251020T220834Z
LAST-MODIFIED:20251020T220834Z
UID:10001745-1761474600-1761485400@walthamtimes.org
SUMMARY:Service celebrating the Waltham Clothing Exchange
DESCRIPTION:First Parish in Waltham UU is inviting the public to a special service\, open to the public. The service celebrates the Waltham Clothing Exchange\, a project of First Parish for 68 years. Remembering the monthly theme of compassion\, there will be personal testimonies expressing love of the Clothing Exchange experience. And a fashion show. And a show-and-tell on how it operates. And of course\, what it has accomplished for the Waltham Community. \nThe Waltham Clothing Exchange has been a historical forerunner to the present community support efforts of First Parish such as the Jones Partnership Fund\, which was a featured service last month. \nFollowing the service\, the Waltham Clothing Exchange will be opened from 11:45 to 1:30. It is located on the lower level of the building\, with direct access from the lower parking lot off School Street. \nFor those interested in volunteering\, they can call the Waltham Clothing Exchange at 781-330-0389 and leave a message. Or email to WalthamClothingExchange@gmail.com. More information.
URL:https://walthamtimes.org/event/service-celebrating-the-waltham-clothing-exchange/
LOCATION:First Parish Church\, 50 Church St\, Waltham\, MA
CATEGORIES:Public interest
END:VEVENT
BEGIN:VEVENT
DTSTART;TZID=America/New_York:20251021T100000
DTEND;TZID=America/New_York:20251021T163000
DTSTAMP:20260424T221257
CREATED:20251011T212004Z
LAST-MODIFIED:20251011T212004Z
UID:10001223-1761040800-1761064200@walthamtimes.org
SUMMARY:Waltham Clothing Exchange—open on Tuesdays!
DESCRIPTION:First Parish’s Waltham Clothing Exchange thrift shop has started it’s 68th year serving the greater Waltham community. The fall season runs until December 16\, open only on Tuesdays from 10:00 to 4:30. \nThere is plenty of good stuff: clothing for men\, women\, children and infants; toys\, games\, crafts\, housewares\, small appliances\, giftware\, linens\, lamps\, artwork\, jewelry\, shoes\, handbags\, accessories\, holiday items and more! Every week our consignors add to our ever-changing inventory. Help yourself to a bargain while helping to save the environment. \nSusan and Joel would welcome volunteer interest! You don’t have to help the whole day. Drop them a line or drop in to shop and talk! \nJoel & Susan Weddig\, Co-Directors (781) 330-0389.
URL:https://walthamtimes.org/event/waltham-clothing-exchange-open-on-tuesdays-5/
LOCATION:Waltham Clothing Exchange Thrift Shop at First Parish\, 50 Church St\, Waltham\, 02451
CATEGORIES:Public interest
END:VEVENT
BEGIN:VEVENT
DTSTART;TZID=America/New_York:20251018T090000
DTEND;TZID=America/New_York:20251018T130000
DTSTAMP:20260424T221257
CREATED:20251001T031913Z
LAST-MODIFIED:20251001T031913Z
UID:10001197-1760778000-1760792400@walthamtimes.org
SUMMARY:Waltham Clothing Exchange—special Saturday date
DESCRIPTION:First Parish’s Waltham Clothing Exchange thrift shop has started it’s 68th year serving the greater Waltham community. The fall season runs until December 16\, open only on Tuesdays from 10:00 to 4:30\, plus two Saturdays\, October 4 and 18\, from 9:00 to 1:00. \nThere is plenty of good stuff: clothing for men\, women\, children and infants; toys\, games\, crafts\, housewares\, small appliances\, giftware\, linens\, lamps\, artwork\, jewelry\, shoes\, handbags\, accessories\, holiday items and more! Every week our consignors add to our ever-changing inventory. Help yourself to a bargain while helping to save the environment. \nSusan and Joel would welcome volunteer interest! You don’t have to help the whole day. Drop them a line or drop in to shop and talk! \nJoel & Susan Weddig\, Co-Directors (781) 330-0389.
URL:https://walthamtimes.org/event/waltham-clothing-exchange-special-saturday-date/
LOCATION:Waltham Clothing Exchange Thrift Shop at First Parish\, 50 Church St\, Waltham\, 02451
CATEGORIES:Public interest
END:VEVENT
BEGIN:VEVENT
DTSTART;TZID=America/New_York:20251014T100000
DTEND;TZID=America/New_York:20251014T163000
DTSTAMP:20260424T221257
CREATED:20250928T152129Z
LAST-MODIFIED:20251001T031801Z
UID:10001187-1760436000-1760459400@walthamtimes.org
SUMMARY:Waltham Clothing Exchange—open on Tuesdays!
DESCRIPTION:First Parish’s Waltham Clothing Exchange thrift shop has started it’s 68th year serving the greater Waltham community. The fall season runs until December 16\, open only on Tuesdays from 10:00 to 4:30\, plus two Saturdays\, October 4 and 18\, from 9:00 to 1:00. \nThere is plenty of good stuff: clothing for men\, women\, children and infants; toys\, games\, crafts\, housewares\, small appliances\, giftware\, linens\, lamps\, artwork\, jewelry\, shoes\, handbags\, accessories\, holiday items and more! Every week our consignors add to our ever-changing inventory. Help yourself to a bargain while helping to save the environment. \nSusan and Joel would welcome volunteer interest! You don’t have to help the whole day. Drop them a line or drop in to shop and talk! \nJoel & Susan Weddig\, Co-Directors (781) 330-0389.
URL:https://walthamtimes.org/event/waltham-clothing-exchange-open-on-tuesdays-4/
LOCATION:Waltham Clothing Exchange Thrift Shop at First Parish\, 50 Church St\, Waltham\, 02451
CATEGORIES:Public interest
END:VEVENT
BEGIN:VEVENT
DTSTART;TZID=America/New_York:20251007T100000
DTEND;TZID=America/New_York:20251007T163000
DTSTAMP:20260424T221257
CREATED:20250928T013215Z
LAST-MODIFIED:20250928T013215Z
UID:10001181-1759831200-1759854600@walthamtimes.org
SUMMARY:Waltham Clothing Exchange — open on Tuesdays!
DESCRIPTION:First Parish’s Waltham Clothing Exchange thrift shop has started it’s 68th year serving the greater Waltham community. The fall season runs until December 16\, open only on Tuesdays from 10:00 to 4:30\, plus two Saturdays\, October 4 and 18\, from 9:00 to 1:00. \nThere is plenty of good stuff: clothing for men\, women\, children and infants\, toys\, games\, crafts\, housewares\, small appliances\, giftware\, linens\, lamps\, artwork\, jewelry\, shoes\, handbags\, accessories\, holiday items and more! Every week our consignors add to our ever-changing inventory. Help yourself to a bargain while helping to save the environment. \nSusan and Joel would welcome volunteer interest! You don’t have to help the whole day. Drop them a line or drop in to shop and talk! \nJoel & Susan Weddig\, Co-Directors (781) 330-0389.
URL:https://walthamtimes.org/event/waltham-clothing-exchange-open-on-tuesdays-3/
LOCATION:Waltham Clothing Exchange Thrift Shop at First Parish\, 50 Church St\, Waltham\, 02451
CATEGORIES:Public interest
END:VEVENT
BEGIN:VEVENT
DTSTART;TZID=America/New_York:20251004T090000
DTEND;TZID=America/New_York:20251004T130000
DTSTAMP:20260424T221257
CREATED:20251001T032012Z
LAST-MODIFIED:20251001T032012Z
UID:10001198-1759568400-1759582800@walthamtimes.org
SUMMARY:Waltham Clothing Exchange—special Saturday date
DESCRIPTION:First Parish’s Waltham Clothing Exchange thrift shop has started it’s 68th year serving the greater Waltham community. The fall season runs until December 16\, open only on Tuesdays from 10:00 to 4:30\, plus two Saturdays\, October 4 and 18\, from 9:00 to 1:00. \nThere is plenty of good stuff: clothing for men\, women\, children and infants; toys\, games\, crafts\, housewares\, small appliances\, giftware\, linens\, lamps\, artwork\, jewelry\, shoes\, handbags\, accessories\, holiday items and more! Every week our consignors add to our ever-changing inventory. Help yourself to a bargain while helping to save the environment. \nSusan and Joel would welcome volunteer interest! You don’t have to help the whole day. Drop them a line or drop in to shop and talk! \nJoel & Susan Weddig\, Co-Directors (781) 330-0389.
URL:https://walthamtimes.org/event/waltham-clothing-exchange-special-saturday-date-2/
LOCATION:Waltham Clothing Exchange Thrift Shop at First Parish\, 50 Church St\, Waltham\, 02451
CATEGORIES:Public interest
END:VEVENT
BEGIN:VEVENT
DTSTART;TZID=America/New_York:20250930T100000
DTEND;TZID=America/New_York:20250930T163000
DTSTAMP:20260424T221257
CREATED:20250927T222119Z
LAST-MODIFIED:20250927T222119Z
UID:10001168-1759226400-1759249800@walthamtimes.org
SUMMARY:Waltham Clothing Exchange — open on Tuesdays!
DESCRIPTION:First Parish’s Waltham Clothing Exchange thrift shop has started it’s 68th year serving the greater Waltham community. The fall season runs until December 16\, open only on Tuesdays from 10:00 to 4:30\, plus two Saturdays\, October 4 and 18\, from 9:00 to 1:00. \nThere is plenty of good stuff: clothing for men\, women\, children and infants\, toys\, games\, crafts\, housewares\, small appliances\, giftware\, linens\, lamps\, artwork\, jewelry\, shoes\, handbags\, accessories\, holiday items and more! Every week our consignors add to our ever-changing inventory. Help yourself to a bargain while helping to save the environment. \nSusan and Joel would welcome volunteer interest! You don’t have to help the whole day. Drop them a line or drop in to shop and talk! \nJoel & Susan Weddig\, Co-Directors (781) 330-0389.
URL:https://walthamtimes.org/event/waltham-clothing-exchange-open-on-tuesdays-2/
LOCATION:First Parish Church\, 50 Church St\, Waltham\, MA
CATEGORIES:Public interest
END:VEVENT
BEGIN:VEVENT
DTSTART;TZID=America/New_York:20250924T100000
DTEND;TZID=America/New_York:20250924T163000
DTSTAMP:20260424T221257
CREATED:20250924T002628Z
LAST-MODIFIED:20250924T002628Z
UID:10001164-1758708000-1758731400@walthamtimes.org
SUMMARY:Waltham Clothing Exchange — open on Tuesdays
DESCRIPTION:First Parish’s Waltham Clothing Exchange thrift shop has started it’s 68th year serving the greater Waltham community. The fall season runs until December 16\, open only on Tuesdays from 10:00 to 4:30\, plus two Saturdays\, October 4 and 18\, from 9:00 to 1:00. \nThere is plenty of good stuff: clothing for men\, women\, children and infants\, toys\, games\, crafts\, housewares\, small appliances\, giftware\, linens\, lamps\, artwork\, jewelry\, shoes\, handbags\, accessories\, holiday items and more! Every week our consignors add to our ever-changing inventory. Help yourself to a bargain while helping to save the environment. \nSusan and Joel would welcome volunteer interest! You don’t have to help the whole day. Drop them a line or drop in to shop and talk! \nJoel & Susan Weddig\, Co-Directors (781) 330-0389.
URL:https://walthamtimes.org/event/waltham-clothing-exchange-open-on-tuesdays/
LOCATION:Waltham Clothing Exchange Thrift Shop at First Parish\, 50 Church St\, Waltham\, 02451
CATEGORIES:Public interest
END:VEVENT
BEGIN:VEVENT
DTSTART;TZID=America/New_York:20250504T120000
DTEND;TZID=America/New_York:20250504T150000
DTSTAMP:20260424T221257
CREATED:20250417T020052Z
LAST-MODIFIED:20250417T020052Z
UID:10000692-1746360000-1746370800@walthamtimes.org
SUMMARY:First Parish in Waltham — 2nd annual community spring fair
DESCRIPTION:All are invited to join us for our 2nd annual community spring fair — a wonderful afternoon of fun with free Tick Tock Trolly rides to and from the fair\, free grilled hot dog lunch beginning at noon (while supplies last)\, music and dancing by Jammin With You at 12:30 p.m.\, storytelling with Fran Friedland at 1:30 p.m.\, as well as well as face painting\, games\, crafts\, and much more! \nThe free Tick Tock Trolly will stop several times throughout the fair at the following locations: \n\n44 Hansen Road\nChesterbrook Learning Center\n22 Brookway Road\nDana Court apartments\, 13-15 Gardner Street
URL:https://walthamtimes.org/event/first-parish-in-waltham-2nd-annual-community-spring-fair/
LOCATION:First Parish Church\, 50 Church St\, Waltham\, MA
CATEGORIES:Festivals,Festivals|Public interest|School events,Musical performances,Public interest
END:VEVENT
BEGIN:VEVENT
DTSTART;TZID=America/New_York:20250211T100000
DTEND;TZID=America/New_York:20250211T100000
DTSTAMP:20260424T221257
CREATED:20250204T204817Z
LAST-MODIFIED:20250204T205058Z
UID:10000195-1739268000-1739268000@walthamtimes.org
SUMMARY:Waltham Clothing Exchange — opening for spring season
DESCRIPTION:The Waltham Clothing Exchange will be opening to kick off their spring season! They look forward to welcoming back their customers and consignors and hope to make many new friends as well!
URL:https://walthamtimes.org/event/waltham-clothing-exchange-opening-for-spring-season/
LOCATION:First Parish Church\, 50 Church St\, Waltham\, MA
CATEGORIES:Public interest
END:VEVENT
BEGIN:VEVENT
DTSTART;TZID=America/New_York:20241214T190000
DTEND;TZID=America/New_York:20241214T210000
DTSTAMP:20260424T221257
CREATED:20250114T204727Z
LAST-MODIFIED:20250204T031722Z
UID:10000132-1734202800-1734210000@walthamtimes.org
SUMMARY:7th Annual Holiday Concert with Harvey Reid and Joyce Andersen
DESCRIPTION:Harvey Reid and Joyce Anderson are returning for their 7th annual concert. \nThis concert will take you back to a New England Christmas from long ago for a unique evening of warm and brilliant holiday music. These acoustic music luminaries intertwine their voices with Reid’s guitars\, autoharp and mandolins and Andersen’s violin and viola for a program of instrumental and vocal arrangements of holiday and seasonal music\, old and new. \n7 p.m.\, in the sanctuary\n$20 general admission\n$18 students and seniors 65+ \nTickets will be available at the door or can be purchased in advance using this link \n 
URL:https://walthamtimes.org/event/7th-annual-holiday-concert-with-harvey-reid-and-joyce-andersen/
LOCATION:First Parish Church\, 50 Church St\, Waltham\, MA
CATEGORIES:Arts & culture,Holiday celebrations,Musical performances
END:VEVENT
END:VCALENDAR