BEGIN:VCALENDAR
VERSION:2.0
PRODID:-//Waltham Times - ECPv6.15.12.2//NONSGML v1.0//EN
CALSCALE:GREGORIAN
METHOD:PUBLISH
X-WR-CALNAME:Waltham Times
X-ORIGINAL-URL:https://walthamtimes.org
X-WR-CALDESC:Events for Waltham Times
REFRESH-INTERVAL;VALUE=DURATION:PT1H
X-Robots-Tag:noindex
X-PUBLISHED-TTL:PT1H
BEGIN:VTIMEZONE
TZID:America/New_York
BEGIN:DAYLIGHT
TZOFFSETFROM:-0500
TZOFFSETTO:-0400
TZNAME:EDT
DTSTART:20250309T070000
END:DAYLIGHT
BEGIN:STANDARD
TZOFFSETFROM:-0400
TZOFFSETTO:-0500
TZNAME:EST
DTSTART:20251102T060000
END:STANDARD
BEGIN:DAYLIGHT
TZOFFSETFROM:-0500
TZOFFSETTO:-0400
TZNAME:EDT
DTSTART:20260308T070000
END:DAYLIGHT
BEGIN:STANDARD
TZOFFSETFROM:-0400
TZOFFSETTO:-0500
TZNAME:EST
DTSTART:20261101T060000
END:STANDARD
BEGIN:DAYLIGHT
TZOFFSETFROM:-0500
TZOFFSETTO:-0400
TZNAME:EDT
DTSTART:20270314T070000
END:DAYLIGHT
BEGIN:STANDARD
TZOFFSETFROM:-0400
TZOFFSETTO:-0500
TZNAME:EST
DTSTART:20271107T060000
END:STANDARD
END:VTIMEZONE
BEGIN:VEVENT
DTSTART;TZID=America/New_York:20260428T100000
DTEND;TZID=America/New_York:20260428T163000
DTSTAMP:20260424T182800
CREATED:20260310T165512Z
LAST-MODIFIED:20260310T165512Z
UID:10002502-1777370400-1777393800@walthamtimes.org
SUMMARY:Waltham Clothing Exchange now open on Tuesdays
DESCRIPTION:The Waltham Clothing Exchange (WCE) is now open for its spring season on Tuesdays only from 10 a.m. to 4:30 p.m. through May 12. \nWCE is a friendly thrift shop and consignment store serving the community for 67 years. It’s a lot more than clothing. We offer affordable clothing for all ages\, shoes\, dozens of handbags\, a variety of household goods\, glassware\, dinnerware\, small appliances\, countless books\, CDs\, DVDs\, toys\, games\, puzzles\, stuffed critters\, craft materials\, art pictures and picture frames\, and jewelry. It’s like a huge garage sale!
URL:https://walthamtimes.org/event/waltham-clothing-exchange-now-open-on-tuesdays-2/2026-04-28/
LOCATION:First Parish Church\, 50 Church St\, Waltham\, MA
CATEGORIES:Public interest
END:VEVENT
END:VCALENDAR