BEGIN:VCALENDAR
VERSION:2.0
PRODID:-//Waltham Times - ECPv6.15.12.2//NONSGML v1.0//EN
CALSCALE:GREGORIAN
METHOD:PUBLISH
X-WR-CALNAME:Waltham Times
X-ORIGINAL-URL:https://walthamtimes.org
X-WR-CALDESC:Events for Waltham Times
REFRESH-INTERVAL;VALUE=DURATION:PT1H
X-Robots-Tag:noindex
X-PUBLISHED-TTL:PT1H
BEGIN:VTIMEZONE
TZID:America/New_York
BEGIN:DAYLIGHT
TZOFFSETFROM:-0500
TZOFFSETTO:-0400
TZNAME:EDT
DTSTART:20250309T070000
END:DAYLIGHT
BEGIN:STANDARD
TZOFFSETFROM:-0400
TZOFFSETTO:-0500
TZNAME:EST
DTSTART:20251102T060000
END:STANDARD
BEGIN:DAYLIGHT
TZOFFSETFROM:-0500
TZOFFSETTO:-0400
TZNAME:EDT
DTSTART:20260308T070000
END:DAYLIGHT
BEGIN:STANDARD
TZOFFSETFROM:-0400
TZOFFSETTO:-0500
TZNAME:EST
DTSTART:20261101T060000
END:STANDARD
BEGIN:DAYLIGHT
TZOFFSETFROM:-0500
TZOFFSETTO:-0400
TZNAME:EDT
DTSTART:20270314T070000
END:DAYLIGHT
BEGIN:STANDARD
TZOFFSETFROM:-0400
TZOFFSETTO:-0500
TZNAME:EST
DTSTART:20271107T060000
END:STANDARD
END:VTIMEZONE
BEGIN:VEVENT
DTSTART;TZID=America/New_York:20260606T093000
DTEND;TZID=America/New_York:20260606T140000
DTSTAMP:20260423T153308
CREATED:20260422T021951Z
LAST-MODIFIED:20260422T022709Z
UID:10002631-1780738200-1780754400@walthamtimes.org
SUMMARY:Waltham Farmers' Market
DESCRIPTION:Shop local! Shop outdoors! Featuring locally-grown produce\, cheese\, eggs\, meats\, baked goods\, soaps\, sauces\, wine and mead\, and prepared specialty meals to go. \nThe 2026 location is 65 Lexington Street\, the former Elks lodge.  \nThe market is held rain or shine and is wheelchair-\, bicycle- and stroller-accessible. Hours are Saturdays\, 9:30 a.m. – 2:00 p.m.\, from June 6 – October 31\, 2026. \nSNAP/EBT purchases will be matched (doubled) up to $10 per person each week. Licensed HIP EBT sales: Dick’s Market Garden\, Heavens Harvest\, and Sibling Organic Crops. WIC/Senior Coupons: Dick’s Market Garden\, Heavens Harvest\, Sibling Organic Crops\, and Spring Brook Farm. Stop by the Info Tent for details.
URL:https://walthamtimes.org/event/waltham-farmers-market-9/2026-06-06/
LOCATION:65 Lexington Street\, 65 Lexington Street\, Waltham
CATEGORIES:Food and agriculture
ATTACH;FMTTYPE=image/png:https://d2iou6x4qarbh6.cloudfront.net/wp-content/uploads/2026/04/19140204/WFM-logo-transparent-background.png
END:VEVENT
END:VCALENDAR