BEGIN:VCALENDAR
VERSION:2.0
PRODID:-//Waltham Times - ECPv6.15.12.2//NONSGML v1.0//EN
CALSCALE:GREGORIAN
METHOD:PUBLISH
X-WR-CALNAME:Waltham Times
X-ORIGINAL-URL:https://walthamtimes.org
X-WR-CALDESC:Events for Waltham Times
REFRESH-INTERVAL;VALUE=DURATION:PT1H
X-Robots-Tag:noindex
X-PUBLISHED-TTL:PT1H
BEGIN:VTIMEZONE
TZID:America/New_York
BEGIN:DAYLIGHT
TZOFFSETFROM:-0500
TZOFFSETTO:-0400
TZNAME:EDT
DTSTART:20240310T070000
END:DAYLIGHT
BEGIN:STANDARD
TZOFFSETFROM:-0400
TZOFFSETTO:-0500
TZNAME:EST
DTSTART:20241103T060000
END:STANDARD
BEGIN:DAYLIGHT
TZOFFSETFROM:-0500
TZOFFSETTO:-0400
TZNAME:EDT
DTSTART:20250309T070000
END:DAYLIGHT
BEGIN:STANDARD
TZOFFSETFROM:-0400
TZOFFSETTO:-0500
TZNAME:EST
DTSTART:20251102T060000
END:STANDARD
BEGIN:DAYLIGHT
TZOFFSETFROM:-0500
TZOFFSETTO:-0400
TZNAME:EDT
DTSTART:20260308T070000
END:DAYLIGHT
BEGIN:STANDARD
TZOFFSETFROM:-0400
TZOFFSETTO:-0500
TZNAME:EST
DTSTART:20261101T060000
END:STANDARD
END:VTIMEZONE
BEGIN:VEVENT
DTSTART;TZID=America/New_York:20251019T140000
DTEND;TZID=America/New_York:20251019T163000
DTSTAMP:20260425T000743
CREATED:20251011T205256Z
LAST-MODIFIED:20251011T205256Z
UID:10001219-1760882400-1760891400@walthamtimes.org
SUMMARY:Create your own mosaic jewelry
DESCRIPTION:Enjoy a fun afternoon of making your own jewelry. I will supply the silver-plated pendant bases\, rings\, bracelets and earring blanks and all the glass\, china\, beads\, jewels and bling that you will need to make a unique gift for yourself or for others. The best part—no previous jewelry or mosaic experience is needed.
URL:https://walthamtimes.org/event/create-your-own-mosaic-jewelry/
LOCATION:Amy Marks’ Mosaic Studio\, 111 Riverview Avenue\, Waltham
CATEGORIES:Arts & culture,Public interest
ORGANIZER;CN="Amy Marks":MAILTO:amyloumarks@gmail.com
END:VEVENT
END:VCALENDAR