BEGIN:VCALENDAR
VERSION:2.0
PRODID:-//Waltham Times - ECPv6.15.12.2//NONSGML v1.0//EN
CALSCALE:GREGORIAN
METHOD:PUBLISH
X-ORIGINAL-URL:https://walthamtimes.org
X-WR-CALDESC:Events for Waltham Times
REFRESH-INTERVAL;VALUE=DURATION:PT1H
X-Robots-Tag:noindex
X-PUBLISHED-TTL:PT1H
BEGIN:VTIMEZONE
TZID:America/New_York
BEGIN:DAYLIGHT
TZOFFSETFROM:-0500
TZOFFSETTO:-0400
TZNAME:EDT
DTSTART:20240310T070000
END:DAYLIGHT
BEGIN:STANDARD
TZOFFSETFROM:-0400
TZOFFSETTO:-0500
TZNAME:EST
DTSTART:20241103T060000
END:STANDARD
BEGIN:DAYLIGHT
TZOFFSETFROM:-0500
TZOFFSETTO:-0400
TZNAME:EDT
DTSTART:20250309T070000
END:DAYLIGHT
BEGIN:STANDARD
TZOFFSETFROM:-0400
TZOFFSETTO:-0500
TZNAME:EST
DTSTART:20251102T060000
END:STANDARD
BEGIN:DAYLIGHT
TZOFFSETFROM:-0500
TZOFFSETTO:-0400
TZNAME:EDT
DTSTART:20260308T070000
END:DAYLIGHT
BEGIN:STANDARD
TZOFFSETFROM:-0400
TZOFFSETTO:-0500
TZNAME:EST
DTSTART:20261101T060000
END:STANDARD
BEGIN:DAYLIGHT
TZOFFSETFROM:-0500
TZOFFSETTO:-0400
TZNAME:EDT
DTSTART:20270314T070000
END:DAYLIGHT
BEGIN:STANDARD
TZOFFSETFROM:-0400
TZOFFSETTO:-0500
TZNAME:EST
DTSTART:20271107T060000
END:STANDARD
END:VTIMEZONE
BEGIN:VEVENT
DTSTART;TZID=America/New_York:20260114T193000
DTEND;TZID=America/New_York:20260114T213000
DTSTAMP:20260423T145713
CREATED:20251229T020245Z
LAST-MODIFIED:20260205T182826Z
UID:10002052-1768419000-1768426200@walthamtimes.org
SUMMARY:Friends Beyond Boston: Trivia night at Joe Sent Me
DESCRIPTION:Join Friends Beyond Boston at 7:30 p.m. to grab a table\, order food and drinks\, and chat before STUMP trivia starts at 8:00 p.m. This is a perfect time to meet new people and build friendships with like-minded people who love a good challenge. \n\n\n\n\nGreat casual sports bar atmosphere. RSVP required — limited spots. \nPlease note: This is a private event for members of this Meetup community group who RSVP in advance. For safety and group flow\, walk-ins and guests who are not on the RSVP list will not be able to join the event. We love meeting new people\, just make sure to RSVP through the Meetup or Heylo group ahead of time so we know you’re coming.
URL:https://walthamtimes.org/event/friends-beyond-boston-trivia-night-at-joe-sent-me-2/
LOCATION:Joe Sent Me\, 849 Main St\, Waltham\, 02453
CATEGORIES:Social events
ATTACH;FMTTYPE=image/jpeg:https://d2iou6x4qarbh6.cloudfront.net/wp-content/uploads/2025/12/28210247/event-flyer24.jpg
ORGANIZER;CN="Friends Beyond Boston - Waltham Social 20%E2%80%99s to 40%E2%80%99s":MAILTO:friendsbeyondboston@proton.me
END:VEVENT
BEGIN:VEVENT
DTSTART;TZID=America/New_York:20251119T193000
DTEND;TZID=America/New_York:20251119T213000
DTSTAMP:20260423T145713
CREATED:20251111T180432Z
LAST-MODIFIED:20251111T180432Z
UID:10001791-1763580600-1763587800@walthamtimes.org
SUMMARY:Friends Beyond Boston: Trivia night at Joe Sent Me
DESCRIPTION:The group’s amazing trivia team recently won a gift card at a trivia night\, and were turning it into a fun raffle for our group! \nEntry: RSVP and pay $2 to enter the raffle. This goes into our group fund as a small way to help support future events\nCheck-in: Only attendees who show up are eligible.\nLive drawing: The host will put all attendees’ names in a cup and draw one lucky winner. The winner gets the gift card to the trivia/pub venue\, perfect for enjoying right during the event or planning your next trivia outing. A small way to have some fun and support the group at the same time. \nRSVP required – limited spots. \nPlease note: This is a private event for members of this Meetup community group who RSVP in advance. For safety and group flow\, walk-ins and guests who are not on the RSVP list will not be able to join the event. We love meeting new people\, just make sure to RSVP through the Meetup or Heylo group ahead of time so we know you’re coming.
URL:https://walthamtimes.org/event/friends-beyond-boston-trivia-night-at-joe-sent-me/
LOCATION:Joe Sent Me\, 849 Main St\, Waltham\, 02453
CATEGORIES:Public interest
END:VEVENT
END:VCALENDAR