BEGIN:VCALENDAR
VERSION:2.0
PRODID:-//Waltham Times - ECPv6.15.12.2//NONSGML v1.0//EN
CALSCALE:GREGORIAN
METHOD:PUBLISH
X-ORIGINAL-URL:https://walthamtimes.org
X-WR-CALDESC:Events for Waltham Times
REFRESH-INTERVAL;VALUE=DURATION:PT1H
X-Robots-Tag:noindex
X-PUBLISHED-TTL:PT1H
BEGIN:VTIMEZONE
TZID:America/New_York
BEGIN:DAYLIGHT
TZOFFSETFROM:-0500
TZOFFSETTO:-0400
TZNAME:EDT
DTSTART:20230312T070000
END:DAYLIGHT
BEGIN:STANDARD
TZOFFSETFROM:-0400
TZOFFSETTO:-0500
TZNAME:EST
DTSTART:20231105T060000
END:STANDARD
BEGIN:DAYLIGHT
TZOFFSETFROM:-0500
TZOFFSETTO:-0400
TZNAME:EDT
DTSTART:20240310T070000
END:DAYLIGHT
BEGIN:STANDARD
TZOFFSETFROM:-0400
TZOFFSETTO:-0500
TZNAME:EST
DTSTART:20241103T060000
END:STANDARD
BEGIN:DAYLIGHT
TZOFFSETFROM:-0500
TZOFFSETTO:-0400
TZNAME:EDT
DTSTART:20250309T070000
END:DAYLIGHT
BEGIN:STANDARD
TZOFFSETFROM:-0400
TZOFFSETTO:-0500
TZNAME:EST
DTSTART:20251102T060000
END:STANDARD
BEGIN:DAYLIGHT
TZOFFSETFROM:-0500
TZOFFSETTO:-0400
TZNAME:EDT
DTSTART:20260308T070000
END:DAYLIGHT
BEGIN:STANDARD
TZOFFSETFROM:-0400
TZOFFSETTO:-0500
TZNAME:EST
DTSTART:20261101T060000
END:STANDARD
BEGIN:DAYLIGHT
TZOFFSETFROM:-0500
TZOFFSETTO:-0400
TZNAME:EDT
DTSTART:20270314T070000
END:DAYLIGHT
BEGIN:STANDARD
TZOFFSETFROM:-0400
TZOFFSETTO:-0500
TZNAME:EST
DTSTART:20271107T060000
END:STANDARD
END:VTIMEZONE
BEGIN:VEVENT
DTSTART;TZID=America/New_York:20260321T100000
DTEND;TZID=America/New_York:20260321T150000
DTSTAMP:20260419T095413
CREATED:20260319T220541Z
LAST-MODIFIED:20260319T220541Z
UID:10002555-1774087200-1774105200@walthamtimes.org
SUMMARY:Spring craft fair / Easter family fun day
DESCRIPTION:UPDATE: Change of venue to Plympton School\, 20 Farnsworth Street\, Waltham MA. \nCome on out for a fun-filled day of local vendors\, free pictures with the Easter bunny\, Easter egg hunts\, face painting and more! All ages welcome. Proceeds go to local veterans. \nTickets for the egg hunt\, which includes story time\, egg hunt\, pictures\, and face painting\, may be purchased in advance.
URL:https://walthamtimes.org/event/spring-craft-fair-easter-family-fun-day-2/
LOCATION:Plympton Elementary School\, 20 Farnsworth Street
CATEGORIES:Fund raisers
ATTACH;FMTTYPE=image/png:https://d2iou6x4qarbh6.cloudfront.net/wp-content/uploads/2026/03/19180001/Plympton-School-easter-fun.png
END:VEVENT
BEGIN:VEVENT
DTSTART;TZID=America/New_York:20241021T183000
DTEND;TZID=America/New_York:20241021T193000
DTSTAMP:20260419T095413
CREATED:20250114T195944Z
LAST-MODIFIED:20250204T045853Z
UID:10000050-1729535400-1729539000@walthamtimes.org
SUMMARY:Waltham Schools Community Forum
DESCRIPTION:Waltham Public Schools Superintendent Marisa Mendonsa is hosting four community forums in October. \n\n\nMendonsa and the district have scheduled the forums that they’re describing as “informal meet and greets.” \n\n\nThe third meeting is scheduled for: \n\nOct. 21\, 6:30 p.m.\, Plympton Elementary\n\n 
URL:https://walthamtimes.org/event/waltham-schools-community-forum-3/
LOCATION:Plympton Elementary School\, 20 Farnsworth Street
CATEGORIES:City government
END:VEVENT
END:VCALENDAR