BEGIN:VCALENDAR
VERSION:2.0
PRODID:-//Waltham Times - ECPv6.15.12.2//NONSGML v1.0//EN
CALSCALE:GREGORIAN
METHOD:PUBLISH
X-ORIGINAL-URL:https://walthamtimes.org
X-WR-CALDESC:Events for Waltham Times
REFRESH-INTERVAL;VALUE=DURATION:PT1H
X-Robots-Tag:noindex
X-PUBLISHED-TTL:PT1H
BEGIN:VTIMEZONE
TZID:America/New_York
BEGIN:DAYLIGHT
TZOFFSETFROM:-0500
TZOFFSETTO:-0400
TZNAME:EDT
DTSTART:20230312T070000
END:DAYLIGHT
BEGIN:STANDARD
TZOFFSETFROM:-0400
TZOFFSETTO:-0500
TZNAME:EST
DTSTART:20231105T060000
END:STANDARD
BEGIN:DAYLIGHT
TZOFFSETFROM:-0500
TZOFFSETTO:-0400
TZNAME:EDT
DTSTART:20240310T070000
END:DAYLIGHT
BEGIN:STANDARD
TZOFFSETFROM:-0400
TZOFFSETTO:-0500
TZNAME:EST
DTSTART:20241103T060000
END:STANDARD
BEGIN:DAYLIGHT
TZOFFSETFROM:-0500
TZOFFSETTO:-0400
TZNAME:EDT
DTSTART:20250309T070000
END:DAYLIGHT
BEGIN:STANDARD
TZOFFSETFROM:-0400
TZOFFSETTO:-0500
TZNAME:EST
DTSTART:20251102T060000
END:STANDARD
BEGIN:DAYLIGHT
TZOFFSETFROM:-0500
TZOFFSETTO:-0400
TZNAME:EDT
DTSTART:20260308T070000
END:DAYLIGHT
BEGIN:STANDARD
TZOFFSETFROM:-0400
TZOFFSETTO:-0500
TZNAME:EST
DTSTART:20261101T060000
END:STANDARD
END:VTIMEZONE
BEGIN:VEVENT
DTSTART;TZID=America/New_York:20251025T120000
DTEND;TZID=America/New_York:20251025T140000
DTSTAMP:20260424T021345
CREATED:20251015T030848Z
LAST-MODIFIED:20251015T030848Z
UID:10001677-1761393600-1761400800@walthamtimes.org
SUMMARY:Bike Together Waltham—October group ride
DESCRIPTION:Our next weekend ride will leave from behind City Hall. We will do a shorter loop through some of Waltham’s cemeteries. \n 
URL:https://walthamtimes.org/event/bike-together-waltham-october-group-ride/
LOCATION:Waltham City Hall\, 610 Main St.\, Waltham\, MA\, United States
CATEGORIES:Health and fitness,Public interest
END:VEVENT
BEGIN:VEVENT
DTSTART;TZID=America/New_York:20250927T120000
DTEND;TZID=America/New_York:20250927T140000
DTSTAMP:20260424T021345
CREATED:20250923T020000Z
LAST-MODIFIED:20250923T020000Z
UID:10001161-1758974400-1758981600@walthamtimes.org
SUMMARY:Bike Together Waltham—September group ride
DESCRIPTION:Meet behind City Hall for our September group ride. We will ride on the newly opened Linden Street ramp to the rail trail\, and on the newly installed river path curb cut on Farwell Street. \nSee you at a ride soon!
URL:https://walthamtimes.org/event/bike-together-waltham-september-group-ride/
LOCATION:Waltham City Hall\, 610 Main St.\, Waltham\, MA\, United States
CATEGORIES:Health and fitness
END:VEVENT
BEGIN:VEVENT
DTSTART;TZID=America/New_York:20250830T120000
DTEND;TZID=America/New_York:20250830T140000
DTSTAMP:20260424T021345
CREATED:20250817T185509Z
LAST-MODIFIED:20250817T185509Z
UID:10001113-1756555200-1756562400@walthamtimes.org
SUMMARY:Bike Together Waltham—August group ride
DESCRIPTION:Meet behind City Hall for our August group ride. \nWe will ride to Auburndale in Newton\, and return along the Charles River. Part of the route is on a boardwalk and part is dirt\, like the section past the Watch Factory. We will have lunch on Moody Street following the ride (the last weekend of outdoor dining on Moody Street). \n 
URL:https://walthamtimes.org/event/bike-together-waltham-august-group-ride/
LOCATION:Waltham City Hall\, 610 Main St.\, Waltham\, MA\, United States
CATEGORIES:Health and fitness
END:VEVENT
BEGIN:VEVENT
DTSTART;TZID=America/New_York:20250807T100000
DTEND;TZID=America/New_York:20250807T103000
DTSTAMP:20260424T021345
CREATED:20250806T013951Z
LAST-MODIFIED:20250806T013951Z
UID:10001093-1754560800-1754562600@walthamtimes.org
SUMMARY:National Purple Heart Day
DESCRIPTION:Join the Veterans’ Services Department for a Purple Heart flag raising.
URL:https://walthamtimes.org/event/national-purple-heart-day/
LOCATION:Waltham City Hall\, 610 Main St.\, Waltham\, MA\, United States
CATEGORIES:City government,City government|Public interest,Public interest
END:VEVENT
BEGIN:VEVENT
DTSTART;TZID=America/New_York:20250726T120000
DTEND;TZID=America/New_York:20250726T140000
DTSTAMP:20260424T021345
CREATED:20250720T013238Z
LAST-MODIFIED:20250720T013238Z
UID:10001059-1753531200-1753538400@walthamtimes.org
SUMMARY:Bike Together Waltham—July group ride
DESCRIPTION:Join us for our July group ride on Saturday\, July 26 at noon\, meeting behind Waltham City Hall! \nWe will ride to West Newton and then on the new shared-use path that Newton just built on Washington Street between West Newton and Newtonville\, as part of a redesign of that former four-lane high-speed road. \nWe will return to Waltham and have lunch on Moody Street following the 6-mile ride. \n  \n 
URL:https://walthamtimes.org/event/bike-together-waltham-july-group-ride/
LOCATION:Waltham City Hall\, 610 Main St.\, Waltham\, MA\, United States
CATEGORIES:Health and fitness,Public interest
END:VEVENT
BEGIN:VEVENT
DTSTART;TZID=America/New_York:20250628T120000
DTEND;TZID=America/New_York:20250628T170000
DTSTAMP:20260424T021345
CREATED:20250615T160535Z
LAST-MODIFIED:20250616T132222Z
UID:10000925-1751112000-1751130000@walthamtimes.org
SUMMARY:Bike Together Waltham—June family group ride
DESCRIPTION:Mark your calendars for our next weekend ride. \nThis will be a family-friendly group ride starting at City Hall. After the ride we will enjoy outdoor dining on Moody Street as a group. \nWe will ride 5 miles to West Newton and back\, then lunch on Moody Street. Family-friendly! \n 
URL:https://walthamtimes.org/event/bike-together-waltham-june-family-group-ride/
LOCATION:Waltham City Hall\, 610 Main St.\, Waltham\, MA\, United States
CATEGORIES:Health and fitness,Public interest,Sports events
END:VEVENT
BEGIN:VEVENT
DTSTART;TZID=America/New_York:20250612T100000
DTEND;TZID=America/New_York:20250612T110000
DTSTAMP:20260424T021345
CREATED:20250528T013501Z
LAST-MODIFIED:20250528T013501Z
UID:10000855-1749722400-1749726000@walthamtimes.org
SUMMARY:Waltham Traffic Commission meeting
DESCRIPTION:The Waltham Traffic Commission meets monthly\, September to June. Meetings are typically held on the third Thursday of each month\, at 10 a.m.\, with changes to accommodate special meetings and holidays. The June meeting has been moved ahead due to the Juneteenth holiday. \nMeetings are held at City Hall\, 610 Main Street\, on the second floor\, in the council chamber. Members of the public are invited to attend. Visit the commission’s web page near the date of each meeting to review the agenda.
URL:https://walthamtimes.org/event/waltham-traffic-commission-meeting/
LOCATION:Waltham City Hall\, 610 Main St.\, Waltham\, MA\, United States
CATEGORIES:City government,Historical commission,Public interest
END:VEVENT
BEGIN:VEVENT
DTSTART;TZID=America/New_York:20250531T120000
DTEND;TZID=America/New_York:20250531T140000
DTSTAMP:20260424T021345
CREATED:20250514T022105Z
LAST-MODIFIED:20250514T022105Z
UID:10000789-1748692800-1748700000@walthamtimes.org
SUMMARY:Bike Together Waltham — May family group ride
DESCRIPTION:This will be a family-friendly group ride starting at City Hall. After the ride we will enjoy outdoor dining on Moody Street as a group. \n 
URL:https://walthamtimes.org/event/bike-together-waltham-may-family-group-ride/
LOCATION:Waltham City Hall\, 610 Main St.\, Waltham\, MA\, United States
CATEGORIES:Health and fitness,Public interest,Sports events
END:VEVENT
BEGIN:VEVENT
DTSTART;TZID=America/New_York:20250515T100000
DTEND;TZID=America/New_York:20250515T120000
DTSTAMP:20260424T021345
CREATED:20250226T032627Z
LAST-MODIFIED:20250609T153949Z
UID:10000347-1747303200-1747310400@walthamtimes.org
SUMMARY:Traffic Commission Meeting
DESCRIPTION:Traffic commission meetings are held on the third Thursday of each month (adjusted for holidays). Meetings take place in the City Council Chamber (on the second floor of City Hall). These meetings are public and all are welcome.
URL:https://walthamtimes.org/event/traffic-commission-meeting-3/2025-05-15/
LOCATION:Waltham City Hall\, 610 Main St.\, Waltham\, MA\, United States
CATEGORIES:City government,Traffic
END:VEVENT
BEGIN:VEVENT
DTSTART;TZID=America/New_York:20250426T140000
DTEND;TZID=America/New_York:20250426T150000
DTSTAMP:20260424T021345
CREATED:20250414T143031Z
LAST-MODIFIED:20250426T135010Z
UID:10000681-1745676000-1745679600@walthamtimes.org
SUMMARY:Bike Together Waltham — April group ride
DESCRIPTION:Update: “Despite the forecast\, we are still planning on riding Saturday\, April 26\, at 2 p.m.\, meeting behind City Hall. Riding in the rain can be enjoyable\, if you dress for the weather! Family Bike Ride has canceled their Sheepshearing Festival ride\, so we will change our route to be mostly along the river path. If there are torrential downpours or thunderstorms\, we will cancel. Check your email and follow us for any last-minute changes.” \nWe will meet at City Hall at 2 p.m. and join the Cambridge Family Bike Ride group at Lowell Field on Grove Street at 2:30 p.m. for snacks. Then we will ride together along the river path before we return to City Hall. If you are attending the Gore Place Sheepshearing Festival\, you can meet us at Lowell Field at 2:30 p.m.
URL:https://walthamtimes.org/event/bike-together-waltham-april-group-ride/
LOCATION:Waltham City Hall\, 610 Main St.\, Waltham\, MA\, United States
CATEGORIES:Public interest
ATTACH;FMTTYPE=image/jpeg:https://walthamtimes.org/wp-content/uploads/2025/04/april-2025-flyer.jpg
END:VEVENT
BEGIN:VEVENT
DTSTART;TZID=America/New_York:20250401T110000
DTEND;TZID=America/New_York:20250401T120000
DTSTAMP:20260424T021345
CREATED:20250401T013055Z
LAST-MODIFIED:20250401T013055Z
UID:10000634-1743505200-1743508800@walthamtimes.org
SUMMARY:Celebrate April as Organ Donation Month
DESCRIPTION:April is National Donate Life Month\, and New England Donor Services (NEDS) and the Waltham Lions Club will host an event at Waltham City Hall on April 1 to strengthen community awareness of the importance of organ and tissue donation. \nThe event will also honor donor recipients and families and encourage people to register as potential donors. \nMayor Jeannette McCarthy will speak at the event along with State Senator Michael Barrett\, Representative Thomas Stanley and Massachusetts Motor Vehicles Registrar Colleen Ogilvie.
URL:https://walthamtimes.org/event/celebrate-april-as-organ-donation-month/
LOCATION:Waltham City Hall\, 610 Main St.\, Waltham\, MA\, United States
CATEGORIES:Public interest
END:VEVENT
BEGIN:VEVENT
DTSTART;TZID=America/New_York:20250329T130000
DTEND;TZID=America/New_York:20250329T150000
DTSTAMP:20260424T021345
CREATED:20250318T175504Z
LAST-MODIFIED:20250318T175504Z
UID:10000565-1743253200-1743260400@walthamtimes.org
SUMMARY:Bike Together Waltham group ride
DESCRIPTION:We advocate for safer streets and a more bike- and pedestrian-friendly city. Join us on our four-mile group ride along the rail trail and to the Highlands. The route uses some steep streets in the Highlands. \nCoffee and snacks at Cafe on the Common afterward (2 p.m.).
URL:https://walthamtimes.org/event/bike-together-waltham-group-ride/
LOCATION:Waltham City Hall\, 610 Main St.\, Waltham\, MA\, United States
CATEGORIES:Public interest
END:VEVENT
BEGIN:VEVENT
DTSTART;TZID=America/New_York:20250224T193000
DTEND;TZID=America/New_York:20250224T203000
DTSTAMP:20260424T021345
CREATED:20250220T173701Z
LAST-MODIFIED:20250220T173701Z
UID:10000363-1740425400-1740429000@walthamtimes.org
SUMMARY:Public hearing on zoning ordinance regarding ADUs and special permits
DESCRIPTION:City Council and the Board of Survey and Planning will hold a joint public hearing in the City Council chamber. This hearing will cover two amendments to the zoning ordinances: \n\nAccessory dwelling units (ADUs)\nTime limitations and changes in special permits\n\n  \n 
URL:https://walthamtimes.org/event/public-hearing-on-zoning-ordinance-regarding-adus-and-special-permits/
LOCATION:Waltham City Hall\, 610 Main St.\, Waltham\, MA\, United States
CATEGORIES:City Council,City government,City government>Zoning board,City government|Public interest
END:VEVENT
BEGIN:VEVENT
DTSTART;TZID=America/New_York:20250218T183000
DTEND;TZID=America/New_York:20250218T200000
DTSTAMP:20260424T021345
CREATED:20250218T030921Z
LAST-MODIFIED:20250218T030921Z
UID:10000317-1739903400-1739908800@walthamtimes.org
SUMMARY:City Council committee meetings
DESCRIPTION:Waltham City Council committee meetings. \nMoved to February 18 (because Monday is a holiday). \nCity Council Chamber\, City Hall.
URL:https://walthamtimes.org/event/city-council-committee-meetings/
LOCATION:Waltham City Hall\, 610 Main St.\, Waltham\, MA\, United States
CATEGORIES:City government,City government|Public interest,Public interest
END:VEVENT
BEGIN:VEVENT
DTSTART;TZID=America/New_York:20250210T193000
DTEND;TZID=America/New_York:20250210T220000
DTSTAMP:20260424T021345
CREATED:20250204T040235Z
LAST-MODIFIED:20250204T040235Z
UID:10000189-1739215800-1739224800@walthamtimes.org
SUMMARY:Waltham City Council Meeting
DESCRIPTION:The Waltham City Council will meet in the council chamber at City Hall. \nCommittee meeting dockets and agendas can be found off the main City Council web page.
URL:https://walthamtimes.org/event/waltham-city-council-meeting-2/
LOCATION:Waltham City Hall\, 610 Main St.\, Waltham\, MA\, United States
CATEGORIES:City Council,City government,Public interest
END:VEVENT
BEGIN:VEVENT
DTSTART;TZID=America/New_York:20250203T183000
DTEND;TZID=America/New_York:20250203T200000
DTSTAMP:20260424T021345
CREATED:20250201T022506Z
LAST-MODIFIED:20250204T023754Z
UID:10000180-1738607400-1738612800@walthamtimes.org
SUMMARY:Waltham City Council Committee Meetings
DESCRIPTION:Waltham City Council committee meetings. \nCity Hall\, City Council Chamber. See agendas for specific meeting rooms.
URL:https://walthamtimes.org/event/waltham-city-council-committee-meetings/
LOCATION:Waltham City Hall\, 610 Main St.\, Waltham\, MA\, United States
CATEGORIES:City government,Public interest
END:VEVENT
BEGIN:VEVENT
DTSTART;VALUE=DATE:20250129
DTEND;VALUE=DATE:20250131
DTSTAMP:20260424T021345
CREATED:20250128T050025Z
LAST-MODIFIED:20250128T051210Z
UID:10000176-1738116000-1738202399@walthamtimes.org
SUMMARY:Waltham Public Schools - Early Release Day
DESCRIPTION:Waltham Public Schools – Early Release Day \nEarly Release Day Dismissal Times (lunch will  be served): \nWHS and WVHS – 12:00 p.m.\nMiddle Schools – 12:30 p.m.\nElementary Schools – 1:00 p.m. \n 
URL:https://walthamtimes.org/event/waltham-public-schools-early-release-day/
LOCATION:Waltham City Hall\, 610 Main St.\, Waltham\, MA\, United States
CATEGORIES:School events
END:VEVENT
BEGIN:VEVENT
DTSTART;TZID=America/New_York:20250122T000000
DTEND;TZID=America/New_York:20250122T030000
DTSTAMP:20260424T021345
CREATED:20250125T020324Z
LAST-MODIFIED:20250128T021527Z
UID:10000168-1737504000-1737514800@walthamtimes.org
SUMMARY:Waltham City Council committee meetings moved to Tuesday
DESCRIPTION:Due to the Monday holiday\, Waltham City Council committee meetings will be held on Tuesday\, January 21st. See the docket & committee agendas.
URL:https://walthamtimes.org/event/waltham-city-council-committee-meetings-moved-to-tuesday/
LOCATION:Waltham City Hall\, 610 Main St.\, Waltham\, MA\, United States
CATEGORIES:City government>City Council
END:VEVENT
BEGIN:VEVENT
DTSTART;TZID=America/New_York:20250113T193000
DTEND;TZID=America/New_York:20250113T210000
DTSTAMP:20260424T021345
CREATED:20250114T212053Z
LAST-MODIFIED:20250114T214020Z
UID:10000155-1736796600-1736802000@walthamtimes.org
SUMMARY:Waltham City Council's First Meeting Of The New Year
DESCRIPTION:The Waltham City Council will meet in the council chamber at City Hall.
URL:https://walthamtimes.org/event/waltham-city-councils-first-meeting-of-the-new-year/
LOCATION:Waltham City Hall\, 610 Main St.\, Waltham\, MA\, United States
CATEGORIES:City Council,City government
END:VEVENT
BEGIN:VEVENT
DTSTART;TZID=America/New_York:20241230T163000
DTEND;TZID=America/New_York:20241230T170000
DTSTAMP:20260424T021345
CREATED:20250114T204928Z
LAST-MODIFIED:20250114T204928Z
UID:10000138-1735576200-1735578000@walthamtimes.org
SUMMARY:Annual menorah lighting event at City Hall
DESCRIPTION:Please join us on the sixth night of Hanukkah for the city’s annual menorah lighting at City Council chambers on the second floor of City Hall.  Come celebrate the Festival of Lights with us as we light the menorah\, sing Hanukkah songs and spin the dreidel!
URL:https://walthamtimes.org/event/annual-menorah-lighting-event-at-city-hall/
LOCATION:Waltham City Hall\, 610 Main St.\, Waltham\, MA\, United States
CATEGORIES:Arts & culture,City government,Holiday celebrations
END:VEVENT
BEGIN:VEVENT
DTSTART;TZID=America/New_York:20241223T193000
DTEND;TZID=America/New_York:20241223T220000
DTSTAMP:20260424T021345
CREATED:20250114T204927Z
LAST-MODIFIED:20250114T204927Z
UID:10000137-1734982200-1734991200@walthamtimes.org
SUMMARY:Last City Council meeting of 2024
DESCRIPTION:Final council meeting before the new year.
URL:https://walthamtimes.org/event/last-city-council-meeting-of-2024/
LOCATION:Waltham City Hall\, 610 Main St.\, Waltham\, MA\, United States
CATEGORIES:City government
END:VEVENT
BEGIN:VEVENT
DTSTART;TZID=America/New_York:20241219T100000
DTEND;TZID=America/New_York:20241219T113000
DTSTAMP:20260424T021345
CREATED:20250114T204927Z
LAST-MODIFIED:20250204T024852Z
UID:10000135-1734602400-1734607800@walthamtimes.org
SUMMARY:Traffic Commission Meeting
DESCRIPTION:Waltham City Council Chamber\, City Hall.
URL:https://walthamtimes.org/event/traffic-commission-meeting-2/
LOCATION:Waltham City Hall\, 610 Main St.\, Waltham\, MA\, United States
CATEGORIES:City government
END:VEVENT
BEGIN:VEVENT
DTSTART;TZID=America/New_York:20241216T203000
DTEND;TZID=America/New_York:20241216T220000
DTSTAMP:20260424T021345
CREATED:20250114T204525Z
LAST-MODIFIED:20250204T032017Z
UID:10000125-1734381000-1734386400@walthamtimes.org
SUMMARY:Public Hearing - MBTA Communities Act
DESCRIPTION:Waltham’s city leaders have created a multifamily overlay district to comply with the MBTA Communities Act and are soliciting public input from residents about the plan. Please join Waltham Inclusive Neighborhoods and show up to speak in favor of more housing.
URL:https://walthamtimes.org/event/public-hearing-mbta-communities-act/
LOCATION:Waltham City Hall\, 610 Main St.\, Waltham\, MA\, United States
CATEGORIES:City government,Public interest
END:VEVENT
BEGIN:VEVENT
DTSTART;TZID=America/New_York:20241202T173000
DTEND;TZID=America/New_York:20241202T203000
DTSTAMP:20260424T021345
CREATED:20250114T204123Z
LAST-MODIFIED:20250204T035938Z
UID:10000114-1733160600-1733171400@walthamtimes.org
SUMMARY:Waltham City Council meeting
DESCRIPTION:The following committees will meet to discuss a variety of matters. The agenda is posted here. \n\n5:30 p.m. Ordinances & Rules\, City Council Chamber\n7:00 p.m. Public Works & Public Safety\, Hoover Committee Room\n7:30 p.m. Licenses & Franchises\, Hoover Committee Room\n8:00 p.m. Committee of the Whole\, City Council Chamber\nFollowing Committee of the Whole\, Ordinances & Rules\, City Council Chamber
URL:https://walthamtimes.org/event/waltham-city-council-meeting/
LOCATION:Waltham City Hall\, 610 Main St.\, Waltham\, MA\, United States
CATEGORIES:City Council,City government
END:VEVENT
BEGIN:VEVENT
DTSTART;TZID=America/New_York:20241017T100000
DTEND;TZID=America/New_York:20241017T100000
DTSTAMP:20260424T021345
CREATED:20250114T195432Z
LAST-MODIFIED:20250204T050834Z
UID:10000038-1729159200-1729159200@walthamtimes.org
SUMMARY:Traffic commission meeting
DESCRIPTION:The Waltham traffic commission meets on the third Thursday of every month at 10:00 AM. \nLocation: City Hall\, 610 Main Street\, second floor council chambers \nThe Moody Street Feasibility Study (revised) will be presented by the engineering firm commissioned by the city to carry out the study. \nCORRECTION: This meeting was posted in error as being on October 10. The correct date is October 17.
URL:https://walthamtimes.org/event/traffic-commission-meeting/
LOCATION:Waltham City Hall\, 610 Main St.\, Waltham\, MA\, United States
CATEGORIES:City government,Traffic
END:VEVENT
END:VCALENDAR